BEGIN:VCALENDAR
VERSION:2.0
PRODID:-//National Lighthouse Museum - ECPv6.15.20//NONSGML v1.0//EN
CALSCALE:GREGORIAN
METHOD:PUBLISH
X-WR-CALNAME:National Lighthouse Museum
X-ORIGINAL-URL:https://lighthousemuseum.org
X-WR-CALDESC:Events for National Lighthouse Museum
REFRESH-INTERVAL;VALUE=DURATION:PT1H
X-Robots-Tag:noindex
X-PUBLISHED-TTL:PT1H
BEGIN:VTIMEZONE
TZID:America/New_York
BEGIN:DAYLIGHT
TZOFFSETFROM:-0500
TZOFFSETTO:-0400
TZNAME:EDT
DTSTART:20220313T070000
END:DAYLIGHT
BEGIN:STANDARD
TZOFFSETFROM:-0400
TZOFFSETTO:-0500
TZNAME:EST
DTSTART:20221106T060000
END:STANDARD
BEGIN:DAYLIGHT
TZOFFSETFROM:-0500
TZOFFSETTO:-0400
TZNAME:EDT
DTSTART:20230312T070000
END:DAYLIGHT
BEGIN:STANDARD
TZOFFSETFROM:-0400
TZOFFSETTO:-0500
TZNAME:EST
DTSTART:20231105T060000
END:STANDARD
BEGIN:DAYLIGHT
TZOFFSETFROM:-0500
TZOFFSETTO:-0400
TZNAME:EDT
DTSTART:20240310T070000
END:DAYLIGHT
BEGIN:STANDARD
TZOFFSETFROM:-0400
TZOFFSETTO:-0500
TZNAME:EST
DTSTART:20241103T060000
END:STANDARD
END:VTIMEZONE
BEGIN:VEVENT
DTSTART;TZID=America/New_York:20231201T113000
DTEND;TZID=America/New_York:20231201T163000
DTSTAMP:20260423T032216
CREATED:20231016T204411Z
LAST-MODIFIED:20231025T205447Z
UID:9333-1701430200-1701448200@lighthousemuseum.org
SUMMARY:9 Hole Holiday Golf Outing
DESCRIPTION:11:30am Kick Off\nBagels\, Donuts & Coffee\n12:30pm Tee Off \nRaffles\, Best Ball Scramble\, 50/50 Raffles\nLongest Drive\, Closest to Pin\, Straightest Drive\,\nLowest Score Prizes \nAll You Can Eat and Drink\nBBQ Lunch with Hot Dogs\, Hamburgers\,\nChicken\, Hot Chocolate\, Coffee and Open Bar. \n$100.00 Per Golfer\n$50.00 BBQ Lunch Only \nSPONSORSHIPS AVAILABLE!\nEvent Sponsor – $2\,500\n– Company/Name prominently displayed at event\,includes one (1) foursome and two (2) tee signs \nGolf Cart Sponsor – $500\n– Company/Name prominently displayed on all golf carts \nBBQ Sponsor – $1\,000\n– Includes four (4) golfers and sign at BBQ \nTee Sign Sponsor – $100\n– Company/Name prominently displayed at one (1) tee \nCorporate Foursome – $500\n– Includes four (4) golfers and a tee sign \nBUY TICKETS/BECOME A SPONSOR\n 
URL:https://lighthousemuseum.org/event/9-hole-holiday-golf-outing/
LOCATION:South Shore Golf Course\, 200 Huguenot Avenue\, Staten Island\, NY\, 10314\, United States
CATEGORIES:In Person Event
ATTACH;FMTTYPE=image/jpeg:https://lighthousemuseum.org/wp-content/uploads/2023/10/2023ChristmasGolfWebGraphic.jpg
END:VEVENT
END:VCALENDAR