BEGIN:VCALENDAR
VERSION:2.0
PRODID:-//National Lighthouse Museum - ECPv6.15.20//NONSGML v1.0//EN
CALSCALE:GREGORIAN
METHOD:PUBLISH
X-WR-CALNAME:National Lighthouse Museum
X-ORIGINAL-URL:https://lighthousemuseum.org
X-WR-CALDESC:Events for National Lighthouse Museum
REFRESH-INTERVAL;VALUE=DURATION:PT1H
X-Robots-Tag:noindex
X-PUBLISHED-TTL:PT1H
BEGIN:VTIMEZONE
TZID:America/New_York
BEGIN:DAYLIGHT
TZOFFSETFROM:-0500
TZOFFSETTO:-0400
TZNAME:EDT
DTSTART:20220313T070000
END:DAYLIGHT
BEGIN:STANDARD
TZOFFSETFROM:-0400
TZOFFSETTO:-0500
TZNAME:EST
DTSTART:20221106T060000
END:STANDARD
BEGIN:DAYLIGHT
TZOFFSETFROM:-0500
TZOFFSETTO:-0400
TZNAME:EDT
DTSTART:20230312T070000
END:DAYLIGHT
BEGIN:STANDARD
TZOFFSETFROM:-0400
TZOFFSETTO:-0500
TZNAME:EST
DTSTART:20231105T060000
END:STANDARD
BEGIN:DAYLIGHT
TZOFFSETFROM:-0500
TZOFFSETTO:-0400
TZNAME:EDT
DTSTART:20240310T070000
END:DAYLIGHT
BEGIN:STANDARD
TZOFFSETFROM:-0400
TZOFFSETTO:-0500
TZNAME:EST
DTSTART:20241103T060000
END:STANDARD
END:VTIMEZONE
BEGIN:VEVENT
DTSTART;TZID=America/New_York:20231001T120000
DTEND;TZID=America/New_York:20231001T180000
DTSTAMP:20260423T065924
CREATED:20230121T002233Z
LAST-MODIFIED:20230902T202249Z
UID:7216-1696161600-1696183200@lighthousemuseum.org
SUMMARY:Lighthouse Point Fest 2023
DESCRIPTION:Celebrating Our Maritime History \nLighthouses are worldwide!\nA lighthouse has the power to bring people together. \nChildren’s Activities • Entertainment • Ethnic Food • Lighthouse Parade Contest \n$5.00 Suggested Donation\nPlus Free Entry into the National Lighthouse Museum! \nSponsored by:\nNYC Department of Cultural Affairs\nCouncil Members Kamillah Hanks & David Carr
URL:https://lighthousemuseum.org/event/lighthouse-point-fest-2023/
LOCATION:National Lighthouse Museum\, 200 The Promenade at Lighthouse Point\, Staten Island\, NY\, 10301
CATEGORIES:In Person Event
ATTACH;FMTTYPE=image/jpeg:https://lighthousemuseum.org/wp-content/uploads/2023/01/2023LighthousePtFestWebGraphic.jpg
END:VEVENT
BEGIN:VEVENT
DTSTART;TZID=America/New_York:20231006T173000
DTEND;TZID=America/New_York:20231006T203000
DTSTAMP:20260423T065924
CREATED:20230925T190007Z
LAST-MODIFIED:20230925T190007Z
UID:8875-1696613400-1696624200@lighthousemuseum.org
SUMMARY:First Friday at NLM: Spooky Season Kick Off
DESCRIPTION:Paint a pumpkin\, sip some cider and witness the return of Gladys!
URL:https://lighthousemuseum.org/event/first-friday-at-nlm-spooky-season-kick-off/
LOCATION:National Lighthouse Museum\, 200 The Promenade at Lighthouse Point\, Staten Island\, NY\, 10301
CATEGORIES:In Person Event
ATTACH;FMTTYPE=image/jpeg:https://lighthousemuseum.org/wp-content/uploads/2023/09/FirstFridayOctoberWebGraphic.jpg
END:VEVENT
BEGIN:VEVENT
DTSTART;TZID=America/New_York:20231015T140000
DTEND;TZID=America/New_York:20231015T153000
DTSTAMP:20260423T065924
CREATED:20230828T142028Z
LAST-MODIFIED:20230829T193926Z
UID:7922-1697378400-1697383800@lighthousemuseum.org
SUMMARY:The Lighthouse Keeper’s Daughter Author Talk & Book Signing
DESCRIPTION:Born in 1842\, Ida Lewis assumed the keeping of Lime Rock Light in Newport\, RI at the tender age of 15. Set against the backdrop of a country in turmoil and progress\, including the Civil War and the Women’s Suffrage Movement\, Ida’s seemingly unexceptional life took a drastic turn when the world discovered that she’d been silently saving the lives of countless sailors.  \nFame took her in hand and\, overnight\, she became an international sensation. Something she neither wanted nor got accustomed to. THE LIGHTHOUSE KEEPER’S DAUGHTER was originally published under the title KEEPER OF LIME ROCK two decades ago.  \nIt has been in continuous publication ever since and is currently under the imprint of Rowman & Littlefield. Filmmaker Nico Raineau has adapted a screenplay based on Skomal’s book\, to be produced as a major motion picture. \nPURCHASE TICKETS
URL:https://lighthousemuseum.org/event/the-lighthouse-keepers-daughter-author-talk-book-signing/
LOCATION:National Lighthouse Museum\, 200 The Promenade at Lighthouse Point\, Staten Island\, NY\, 10301
CATEGORIES:In Person Event,Virtual Event
ATTACH;FMTTYPE=image/jpeg:https://lighthousemuseum.org/wp-content/uploads/2023/08/2023IsaWebGraphic.jpg
END:VEVENT
BEGIN:VEVENT
DTSTART;VALUE=DATE:20231020
DTEND;VALUE=DATE:20231023
DTSTAMP:20260423T065924
CREATED:20231018T135115Z
LAST-MODIFIED:20231018T135212Z
UID:9820-1697760000-1698019199@lighthousemuseum.org
SUMMARY:Open House New York Free Weekend
DESCRIPTION:Welcome to our largest OHNY Weekend lineup ever. All 100% free! The majority of Weekend experiences are Open Access—no tickets required. Stop by the National Lighthouse Museum for FREE! \nLearn more at https://ohny.org/
URL:https://lighthousemuseum.org/event/open-house-new-york-free-weekend/
LOCATION:National Lighthouse Museum\, 200 The Promenade at Lighthouse Point\, Staten Island\, NY\, 10301
CATEGORIES:In Person Event
ATTACH;FMTTYPE=image/png:https://lighthousemuseum.org/wp-content/uploads/2023/10/OHNY.png
END:VEVENT
BEGIN:VEVENT
DTSTART;TZID=America/New_York:20231028T110000
DTEND;TZID=America/New_York:20231028T140000
DTSTAMP:20260423T065924
CREATED:20230329T155944Z
LAST-MODIFIED:20231024T172326Z
UID:7399-1698490800-1698501600@lighthousemuseum.org
SUMMARY:SOLD OUT! Ghosts\, Murder and Mayhem Along the Hudson River
DESCRIPTION:Ghosts\, Murder and Mayhem Along the Hudson River\nSaturday\, October 28th • 11am-2pm \nFERRY DIRECTIONS:\nDO NOT GO TO THE NATIONAL LIGHTHOUSE MUSEUM. The “Fast Ferry” pier is located on the water\, by the 1 Bay Street general area which includes the St. George Ferry Terminal and the Empire Outlets. The “Fast Ferry” pier does not have its own address. Google Maps will take you to the general area to find parking either at the Empire Outlets or St. George Ferry Terminal. Please refer to our walking map to find the pier: https://lighthousemuseum.org/boat-tours/ The pier is located at the end of Wall Street behind the Ferry Hawks Stadium. You cannot park at the “Fast Ferry” pier\, but you can drop people off at the end of Wall Street. PLEASE ARRIVE EARLY TO PLAN FOR PARKING AND WALKING TO FAST FERRY. Call the National Lighthouse Museum prior to Boat Tour to ask for further explanation if need be. \nJoin us\, if you dare….on a memorable Halloween maritime tour and discover macabre\, often terrifying tales of murder\, mayhem and piracy associated with the history of the mighty Hudson River. \nImmerse yourself in the Halloween spirit and dress in your favorite costume. Enjoy an eerie and haunting look at maritime madness as we journey up the Hudson past the Little Red Lighthouse to the famed Tarrytown/Sleepy Hollow Lighthouse exploring key sights and the origin of legends and tales that would establish for Irving his reputation as America’s premiere writer. \nBoat Tour: $60 for adults/ $40 for children. \n\nPURCHASE TICKETS
URL:https://lighthousemuseum.org/event/ghosts-murder-and-mayhem-along-the-hudson-river/
LOCATION:NY
CATEGORIES:Boat Tours
ATTACH;FMTTYPE=image/jpeg:https://lighthousemuseum.org/wp-content/uploads/2023/03/October2023BoatTourSOLD-1.jpg
END:VEVENT
END:VCALENDAR