BEGIN:VCALENDAR
VERSION:2.0
PRODID:-//National Lighthouse Museum - ECPv6.15.20//NONSGML v1.0//EN
CALSCALE:GREGORIAN
METHOD:PUBLISH
X-ORIGINAL-URL:https://lighthousemuseum.org
X-WR-CALDESC:Events for National Lighthouse Museum
REFRESH-INTERVAL;VALUE=DURATION:PT1H
X-Robots-Tag:noindex
X-PUBLISHED-TTL:PT1H
BEGIN:VTIMEZONE
TZID:America/New_York
BEGIN:DAYLIGHT
TZOFFSETFROM:-0500
TZOFFSETTO:-0400
TZNAME:EDT
DTSTART:20220313T070000
END:DAYLIGHT
BEGIN:STANDARD
TZOFFSETFROM:-0400
TZOFFSETTO:-0500
TZNAME:EST
DTSTART:20221106T060000
END:STANDARD
BEGIN:DAYLIGHT
TZOFFSETFROM:-0500
TZOFFSETTO:-0400
TZNAME:EDT
DTSTART:20230312T070000
END:DAYLIGHT
BEGIN:STANDARD
TZOFFSETFROM:-0400
TZOFFSETTO:-0500
TZNAME:EST
DTSTART:20231105T060000
END:STANDARD
BEGIN:DAYLIGHT
TZOFFSETFROM:-0500
TZOFFSETTO:-0400
TZNAME:EDT
DTSTART:20240310T070000
END:DAYLIGHT
BEGIN:STANDARD
TZOFFSETFROM:-0400
TZOFFSETTO:-0500
TZNAME:EST
DTSTART:20241103T060000
END:STANDARD
END:VTIMEZONE
BEGIN:VEVENT
DTSTART;TZID=America/New_York:20230603T110000
DTEND;TZID=America/New_York:20230603T160000
DTSTAMP:20260423T175449
CREATED:20230121T000859Z
LAST-MODIFIED:20230428T204612Z
UID:7205-1685790000-1685808000@lighthousemuseum.org
SUMMARY:New Exhibit: Graphite Lighthouse Drawings by Greg DiNapoli  
DESCRIPTION:New Exhibit: Graphite Lighthouse Drawings\nby Greg DiNapoli \nOpening Reception – Saturday\, June 3\, 2023\n2pm-4pm \nExhibit will be up until June 30th \nLight refreshments will be served. Prints and postcards will be for sale. \nGreg DiNapoli is a New Jersey based graphite artist working in the style of realism. He specializes in architectural subjects\, as well as cityscapes and landscapes. Greg has been an architecture enthusiast since childhood and is still fascinated by skyscrapers\, lighthouses\, and other large structures. Each drawing takes anywhere from 40 to 100 hours\, depending on the complexity of the subject. Greg’s work has been displayed in multiple galleries across the United States\, and he has been recognized in several international competitions.
URL:https://lighthousemuseum.org/event/greg-dinapoli-art-show/
LOCATION:NY
CATEGORIES:In Person Event
ATTACH;FMTTYPE=image/jpeg:https://lighthousemuseum.org/wp-content/uploads/2023/01/GregNapoliWebsite2.jpg
END:VEVENT
BEGIN:VEVENT
DTSTART;TZID=America/New_York:20230604T110000
DTEND;TZID=America/New_York:20230604T140000
DTSTAMP:20260423T175449
CREATED:20230329T001807Z
LAST-MODIFIED:20230329T002449Z
UID:7386-1685876400-1685887200@lighthousemuseum.org
SUMMARY:Circumnavigation of Staten Island
DESCRIPTION:Circumnavigation of Staten Island\nSunday\, June 4th • 11am-2pm\nExplore fascinating and mysterious sites unfamiliar to most New Yorkers on this exciting boat ride\, one that circumnavigates Staten Island taking you past critical points of maritime interest: the historically rich Shooters\, Prall\, Isle of Meadows (the center of what was once the world’s largest garbage dump that now served as Fresh Kills Park representing NYC’s largest park)\, Hoffman and Swineburn Islands. \nOur journey up the Kill Van Kull\, and the Arthur Kill waterways\, over to Raritan Bay\, Princes’s Bay Staten Island’s southern shore around the Narrows contains much important history critical to NYC’s development and to its maritime life: Sailor’s Snug Harbor\, the Caddell’s Shipyard and Repair Facilities at Port Richmond\, Mariners Harbor\, Port Ivory\, Rossville\, the eerie site of the Ship’s Graveyard\, Tottenville\, Prince’s Bay and Seguine’s Point together with key New Jersey maritime\, commercial and industrial sites located along the Kill Van Kull\, the Arthur Kill and Newark Bay including: Bayonne\, Elizabeth\, Linden\, Carteret and historic Perth Amboy\, which\, overlooks the beautiful Raritan Bay. \nBridges under which our boat passes include the recently renovated Bayonne\, the restored Vertical Lift Railroad Bridge\, the all new Goethals Bridge\, the Outerbridge Crossing and the Verrazano Narrows. \nLighthouses described and seen on this exciting tour include: Robbin’s Reef\, Great Beds\, Prince’s Bay\, Staten Island’s Rear Range\, (site of the Old Orchard Shoals Lighthouse destroyed by Sandy in 2012)\, New Dorp\, Elmtree Beacon and the Battery Weed Light of Fort Wadsworth. \nBoat Tour: $60 for adults/ $40 for children. \nPURCHASE TICKETS
URL:https://lighthousemuseum.org/event/circumnavigation-of-staten-island/
LOCATION:The National Lighthouse Museum\, 200 The Promenade at Lighthouse Point\, Staten Island\, NY\, 10301\, United States
CATEGORIES:Boat Tours
ATTACH;FMTTYPE=image/jpeg:https://lighthousemuseum.org/wp-content/uploads/2023/03/BoatTour2023WebsiteEvent.jpg
END:VEVENT
BEGIN:VEVENT
DTSTART;TZID=America/New_York:20230605T130000
DTEND;TZID=America/New_York:20230605T130000
DTSTAMP:20260423T175449
CREATED:20230312T230251Z
LAST-MODIFIED:20230321T200328Z
UID:7322-1685970000-1685970000@lighthousemuseum.org
SUMMARY:National Lighthouse Museum Golf Outing
DESCRIPTION:National Lighthouse Museum Golf Outing \nMonday\, June 5th\, 2023\nShot Gun Start 1:00pm\nScramble \nSilver Lake Golf Course\n915 Victory Blvd\nStaten Island\, NY 10301 \nIndividual Golfer: $195\nFoursome: $700 \nIncludes:\n18 holes\, Dinner\, Raffles\, 50/50 \nDinner Only $60 \nSponsorships Available!\nEvent Sponsor – $5\,000\n-Company/Name prominently displayed throughout event\n-Company/Name featured on all promotional material\n-Includes one tee sign at first hole and two foursomes \nBar Sponsor – $2\,500\n-Company/Name prominently displayed at bar\n-Company/Name featured on all promotional material\n-Includes one tee sign and one foursome \nGolf Ball Sponsor – $1\,500\n-Company logo printed on golf balls handed out to all players \nBBQ Sponsor – $1\,000\n-Company/Name prominently displayed at lunch \nBeverage Cart Sponsor – $1\,000\n-Company/Name prominently displayed on beverage cart \nGolf Cart Sponsor – $750\n-Company/Name prominently displayed on all golf carts \nTee-sign Sponsor – $150\n-Company/Name prominently displayed at one tee \nPURCHASE TICKETS
URL:https://lighthousemuseum.org/event/national-lighthouse-museum-golf-outing/
LOCATION:NY
ATTACH;FMTTYPE=image/jpeg:https://lighthousemuseum.org/wp-content/uploads/2023/03/GolfOutingWebsiteEvent.jpg
END:VEVENT
BEGIN:VEVENT
DTSTART;TZID=America/New_York:20230611T140000
DTEND;TZID=America/New_York:20230611T140000
DTSTAMP:20260423T175450
CREATED:20230308T155414Z
LAST-MODIFIED:20230420T201937Z
UID:7313-1686492000-1686492000@lighthousemuseum.org
SUMMARY:Our American Lighthouses: 300 Years of Shining Brightly by Jack Graham
DESCRIPTION:Our American Lighthouses: 300 Years of Shining Brightly\nWith John T. (Jack) Graham\, Lighthouse Author and Historian \nSunday June 11\, 2023 •  2pm \nMr. Graham is a retired Pennsylvania state park manager\, always involved in operation and maintenance of historic sites to include colonial-era farms\, grist mills\, iron furnaces\, and farmstead buildings.  Since retirement in 2005\, Mr. Graham and his wife have spent a part of each summer as docents at 17 different lighthouses across the U.S. and Canada.  He writes articles on lighthouse history\, operation\, and lore for both the “Lighthouse Digest” magazine\, and for the “Keeper’s Log” magazine of the U.S. Lighthouse Society. \nThis one-hour program will begin with a short story about the perils of the sea and will then continue as a well-illustrated trip down Lighthouse Lane. It includes over 200 photographs\, with time for any questions or discussion afterwards. \n  \nPURCHASE TICKETS
URL:https://lighthousemuseum.org/event/our-american-lighthouses-300-years-of-shining-brightly-by-jack-graham/
LOCATION:NY
ATTACH;FMTTYPE=image/jpeg:https://lighthousemuseum.org/wp-content/uploads/2023/03/JackGraham2023Website.jpg
END:VEVENT
BEGIN:VEVENT
DTSTART;TZID=America/New_York:20230617T160000
DTEND;TZID=America/New_York:20230617T173000
DTSTAMP:20260423T175450
CREATED:20230609T130047Z
LAST-MODIFIED:20230609T162030Z
UID:7475-1687017600-1687023000@lighthousemuseum.org
SUMMARY:Offshore Wind Short Film Screening with Worldview Films & Vineyard Offshore
DESCRIPTION:Offshore Wind Short Film Screening with Worldview Films & Vineyard Offshore \nSaturday\, June 17 \nTime: 4:00 P.M. – 5:30 P.M. \n1 hour 30 minutes \nHave you ever wondered what an offshore wind farm looks like or how it’s built? On Saturday June 17th join us for a film screening and discussion at the National Lighthouse Museum at 4 P.M. with WorldView Films. We will screen a short film that tells the story of the offshore wind industry in the U.S and host a discussion about how offshore wind is shaping up on Staten Island. \nLocation: The National Lighthouse Museum\, 200 The Promenade at Lighthouse Point\, Staten Island\, NY 10301 \nAudience: All ages \nAccess: \n– Municipal Parking Lot St. George at 55 Central Avenue\, Staten Island\, NY 10301 (adjacent to St. George Library which is a 6 minute walk to the museum) \n– Bus routes: S74\, S76\, S78\, S86\, and S90 \nPURCHASE TICKETS
URL:https://lighthousemuseum.org/event/offshore-wind-short-film-screening-with-worldview-films-vineyard-offshore/
LOCATION:NY
ATTACH;FMTTYPE=image/jpeg:https://lighthousemuseum.org/wp-content/uploads/2023/06/https-__cdn.evbuc_.com_images_530102339_1144526109833_1_original.jpg
END:VEVENT
END:VCALENDAR