BEGIN:VCALENDAR
VERSION:2.0
PRODID:-//National Lighthouse Museum - ECPv6.15.20//NONSGML v1.0//EN
CALSCALE:GREGORIAN
METHOD:PUBLISH
X-ORIGINAL-URL:https://lighthousemuseum.org
X-WR-CALDESC:Events for National Lighthouse Museum
REFRESH-INTERVAL;VALUE=DURATION:PT1H
X-Robots-Tag:noindex
X-PUBLISHED-TTL:PT1H
BEGIN:VTIMEZONE
TZID:America/New_York
BEGIN:DAYLIGHT
TZOFFSETFROM:-0500
TZOFFSETTO:-0400
TZNAME:EDT
DTSTART:20220313T070000
END:DAYLIGHT
BEGIN:STANDARD
TZOFFSETFROM:-0400
TZOFFSETTO:-0500
TZNAME:EST
DTSTART:20221106T060000
END:STANDARD
BEGIN:DAYLIGHT
TZOFFSETFROM:-0500
TZOFFSETTO:-0400
TZNAME:EDT
DTSTART:20230312T070000
END:DAYLIGHT
BEGIN:STANDARD
TZOFFSETFROM:-0400
TZOFFSETTO:-0500
TZNAME:EST
DTSTART:20231105T060000
END:STANDARD
BEGIN:DAYLIGHT
TZOFFSETFROM:-0500
TZOFFSETTO:-0400
TZNAME:EDT
DTSTART:20240310T070000
END:DAYLIGHT
BEGIN:STANDARD
TZOFFSETFROM:-0400
TZOFFSETTO:-0500
TZNAME:EST
DTSTART:20241103T060000
END:STANDARD
END:VTIMEZONE
BEGIN:VEVENT
DTSTART;TZID=America/New_York:20230521T100000
DTEND;TZID=America/New_York:20230521T160000
DTSTAMP:20260423T191808
CREATED:20230331T193940Z
LAST-MODIFIED:20230331T194209Z
UID:7410-1684663200-1684684800@lighthousemuseum.org
SUMMARY:Great Staten Island Lighthouse Hunt
DESCRIPTION:Great Staten Island Lighthouse Hunt\nSunday\, May 21\, 2023 from 10:00am – 4:00pm \n• Start time at either the Conference House in Tottenville or the Postcards (The Staten Island September 11 Memorial\, Bank St\, Staten Island\, NY 10301)  near the National Lighthouse Museum in St. George between 10am – 11am to allow ample time to finish before 4pm at either location. \n• Follow map and visit lighthouses in Staten Island. \n• Take selfies or group photos with lighthouses in the background\, receiving your lighthouse stickers at each site. \n• Learn about the ten lighthouses on and off shore Staten Island. \n• Have a family-friendly fun day learning about Staten Island’s lighthouse history. \nParticipation Admission: $35 per carload & $15 per bicycle or motorcycle \nINCLUDES:\nSelf directed maps to lighthouse locations both on and off shore will be picked up at either starting location\nHunt Participation Award Ribbon\nReceive Lighthouse Hunt Totebag to remember this special day!\nDon’t forget binoculars\, your camera/cell phone\, snacks and sunglasses! \nRULES:\nWe suggest two or three participants – designated driver/navigator\, and photographer.\nPost pictures on Facebook or Instagram and tag us @NationalLighthouseMuseum. \nFor more information\, please contact the National Lighthouse Museum.\n718-390-0040 or info@lighthousemuseum.org \nPURCHASE TICKETS
URL:https://lighthousemuseum.org/event/great-staten-island-lighthouse-hunt-2/
LOCATION:NY
ATTACH;FMTTYPE=image/jpeg:https://lighthousemuseum.org/wp-content/uploads/2023/03/LighthouseHuntWebsiteEvent.jpg
END:VEVENT
BEGIN:VEVENT
DTSTART;TZID=America/New_York:20230528T160000
DTEND;TZID=America/New_York:20230528T160000
DTSTAMP:20260423T191808
CREATED:20230308T155315Z
LAST-MODIFIED:20230420T201438Z
UID:7311-1685289600-1685289600@lighthousemuseum.org
SUMMARY:The Bay and Defenses of New York City 1776 by Norman Goben
DESCRIPTION:The Bay and Defenses of New York City 1776\nSunday May 28\, 2023 •  4pm \nJoin Norman Goben\, SAR member for a slide presentation\, discussion and map of the bay during the hot month of August. Make new friends and old acquaintances with this dive into a small slice of our founding. \n18th Century attire is encouraged. \nIn person and zoom.PURCHASE TICKETS
URL:https://lighthousemuseum.org/event/the-bay-and-defenses-of-new-york-city-1776-by-norman-goben/
LOCATION:NY
ATTACH;FMTTYPE=image/jpeg:https://lighthousemuseum.org/wp-content/uploads/2023/03/NormanWebsite.jpg
END:VEVENT
END:VCALENDAR