BEGIN:VCALENDAR
VERSION:2.0
PRODID:-//National Lighthouse Museum - ECPv6.15.20//NONSGML v1.0//EN
CALSCALE:GREGORIAN
METHOD:PUBLISH
X-ORIGINAL-URL:https://lighthousemuseum.org
X-WR-CALDESC:Events for National Lighthouse Museum
REFRESH-INTERVAL;VALUE=DURATION:PT1H
X-Robots-Tag:noindex
X-PUBLISHED-TTL:PT1H
BEGIN:VTIMEZONE
TZID:America/New_York
BEGIN:DAYLIGHT
TZOFFSETFROM:-0500
TZOFFSETTO:-0400
TZNAME:EDT
DTSTART:20220313T070000
END:DAYLIGHT
BEGIN:STANDARD
TZOFFSETFROM:-0400
TZOFFSETTO:-0500
TZNAME:EST
DTSTART:20221106T060000
END:STANDARD
BEGIN:DAYLIGHT
TZOFFSETFROM:-0500
TZOFFSETTO:-0400
TZNAME:EDT
DTSTART:20230312T070000
END:DAYLIGHT
BEGIN:STANDARD
TZOFFSETFROM:-0400
TZOFFSETTO:-0500
TZNAME:EST
DTSTART:20231105T060000
END:STANDARD
BEGIN:DAYLIGHT
TZOFFSETFROM:-0500
TZOFFSETTO:-0400
TZNAME:EDT
DTSTART:20240310T070000
END:DAYLIGHT
BEGIN:STANDARD
TZOFFSETFROM:-0400
TZOFFSETTO:-0500
TZNAME:EST
DTSTART:20241103T060000
END:STANDARD
END:VTIMEZONE
BEGIN:VEVENT
DTSTART;TZID=America/New_York:20230430T160000
DTEND;TZID=America/New_York:20230430T160000
DTSTAMP:20260423T205005
CREATED:20230307T022928Z
LAST-MODIFIED:20230307T022928Z
UID:7303-1682870400-1682870400@lighthousemuseum.org
SUMMARY:The Lamplighter Hope Shines Brightest in the Dark Program and Book Signing with Author Pamela Hanson Ryder
DESCRIPTION:The Lamplighter\nHope Shines Brightest in the Dark\nProgram and Book Signing with Author Pamela Hanson Ryder\, visiting from Scotland\nSunday April 30th • 4pm \nThe Lamplighter is a novel based on a screenplay that won six international awards in 2021 and is destined to become a period drama movie. The journeys of three people from extremely different backgrounds culminate in the building of a lighthouse. Not just any lighthouse\, but the one that may have changed the course of modern literature forever. \nWe have all experienced ‘lamplighters’ in our lives. Perhaps an inspiring teacher\, parent or good friend has helped change the course of your own life’s events. Likewise\, major changes in history may have taken a turn due to a simple\, chance meeting or the sharing of views between strangers. Lamplighters are everywhere for those who dare to hope. \nPURCHASE TICKETS
URL:https://lighthousemuseum.org/event/the-lamplighter-hope-shines-brightest-in-the-dark-program-and-book-signing-with-author-pamela-hanson-ryder/
LOCATION:NY
ATTACH;FMTTYPE=image/jpeg:https://lighthousemuseum.org/wp-content/uploads/2023/03/LamplighterWebsiteEvent.jpg
END:VEVENT
END:VCALENDAR