BEGIN:VCALENDAR
VERSION:2.0
PRODID:-//National Lighthouse Museum - ECPv6.15.20//NONSGML v1.0//EN
CALSCALE:GREGORIAN
METHOD:PUBLISH
X-WR-CALNAME:National Lighthouse Museum
X-ORIGINAL-URL:https://lighthousemuseum.org
X-WR-CALDESC:Events for National Lighthouse Museum
REFRESH-INTERVAL;VALUE=DURATION:PT1H
X-Robots-Tag:noindex
X-PUBLISHED-TTL:PT1H
BEGIN:VTIMEZONE
TZID:America/New_York
BEGIN:DAYLIGHT
TZOFFSETFROM:-0500
TZOFFSETTO:-0400
TZNAME:EDT
DTSTART:20220313T070000
END:DAYLIGHT
BEGIN:STANDARD
TZOFFSETFROM:-0400
TZOFFSETTO:-0500
TZNAME:EST
DTSTART:20221106T060000
END:STANDARD
BEGIN:DAYLIGHT
TZOFFSETFROM:-0500
TZOFFSETTO:-0400
TZNAME:EDT
DTSTART:20230312T070000
END:DAYLIGHT
BEGIN:STANDARD
TZOFFSETFROM:-0400
TZOFFSETTO:-0500
TZNAME:EST
DTSTART:20231105T060000
END:STANDARD
BEGIN:DAYLIGHT
TZOFFSETFROM:-0500
TZOFFSETTO:-0400
TZNAME:EDT
DTSTART:20240310T070000
END:DAYLIGHT
BEGIN:STANDARD
TZOFFSETFROM:-0400
TZOFFSETTO:-0500
TZNAME:EST
DTSTART:20241103T060000
END:STANDARD
END:VTIMEZONE
BEGIN:VEVENT
DTSTART;TZID=America/New_York:20230312T160000
DTEND;TZID=America/New_York:20230312T160000
DTSTAMP:20260423T235321
CREATED:20230203T040532Z
LAST-MODIFIED:20230203T040552Z
UID:7249-1678636800-1678636800@lighthousemuseum.org
SUMMARY:A Staged Reading Of MIND THE LIGHT
DESCRIPTION:By Ariel Marcus-Hollenbeck (initially produced by Women’s Playwright Collective of Staten Island) \nWhen a visitor comes to the Robbins Reef Lighthouse\, not only is lighthouse keeper Kate Walker’s nighttime routine upended\, but possibly the rest of her life. \nActors:\nKATE WALKER – Regina Paleau\nPHILIP ATKINS – Dan Duffy\nROBBIN – Courtney Emerson \nPURCHASE TICKETS
URL:https://lighthousemuseum.org/event/a-staged-reading-of-mind-the-light/
LOCATION:NY
ATTACH;FMTTYPE=image/jpeg:https://lighthousemuseum.org/wp-content/uploads/2023/02/MindtheLightWebsiteEvent.jpg
END:VEVENT
BEGIN:VEVENT
DTSTART;TZID=America/New_York:20230323T100000
DTEND;TZID=America/New_York:20230323T100000
DTSTAMP:20260423T235321
CREATED:20230307T023528Z
LAST-MODIFIED:20230307T023528Z
UID:7306-1679565600-1679565600@lighthousemuseum.org
SUMMARY:Visit us at the 38th Annual CMA Expo & Conference March 21-23\, 2023 at the Hilton Stamford\, Connecticut
DESCRIPTION:Visit us at the 38th Annual CMA Expo & Conference\nMarch 21-23\, 2023 at the Hilton Stamford\, Connecticut \nNorth America’s most anticipated event of the year for maritime markets – CMA Shipping – is back! \nFrom March 21-23\, CMA Shipping will return once again to the Hilton Stamford\, Connecticut\, as the premier conference & expo for the global maritime community in North America. \nAnd the great news is… as a National Lighthouse Museum member\, you are eligible to receive an exclusive $300 discount on all Conference passes! \nYour Member’s Discount!\nUSE CODE: FKT3879IMNLM \nPURCHASE TICKETS
URL:https://lighthousemuseum.org/event/visit-us-at-the-38th-annual-cma-expo-conference-march-21-23-2023-at-the-hilton-stamford-connecticut/
LOCATION:NY
ATTACH;FMTTYPE=image/jpeg:https://lighthousemuseum.org/wp-content/uploads/2023/03/CMAWebsiteEvent.jpg
END:VEVENT
END:VCALENDAR