BEGIN:VCALENDAR
VERSION:2.0
PRODID:-//National Lighthouse Museum - ECPv6.15.20//NONSGML v1.0//EN
CALSCALE:GREGORIAN
METHOD:PUBLISH
X-WR-CALNAME:National Lighthouse Museum
X-ORIGINAL-URL:https://lighthousemuseum.org
X-WR-CALDESC:Events for National Lighthouse Museum
REFRESH-INTERVAL;VALUE=DURATION:PT1H
X-Robots-Tag:noindex
X-PUBLISHED-TTL:PT1H
BEGIN:VTIMEZONE
TZID:America/New_York
BEGIN:DAYLIGHT
TZOFFSETFROM:-0500
TZOFFSETTO:-0400
TZNAME:EDT
DTSTART:20220313T070000
END:DAYLIGHT
BEGIN:STANDARD
TZOFFSETFROM:-0400
TZOFFSETTO:-0500
TZNAME:EST
DTSTART:20221106T060000
END:STANDARD
BEGIN:DAYLIGHT
TZOFFSETFROM:-0500
TZOFFSETTO:-0400
TZNAME:EDT
DTSTART:20230312T070000
END:DAYLIGHT
BEGIN:STANDARD
TZOFFSETFROM:-0400
TZOFFSETTO:-0500
TZNAME:EST
DTSTART:20231105T060000
END:STANDARD
BEGIN:DAYLIGHT
TZOFFSETFROM:-0500
TZOFFSETTO:-0400
TZNAME:EDT
DTSTART:20240310T070000
END:DAYLIGHT
BEGIN:STANDARD
TZOFFSETFROM:-0400
TZOFFSETTO:-0500
TZNAME:EST
DTSTART:20241103T060000
END:STANDARD
END:VTIMEZONE
BEGIN:VEVENT
DTSTART;TZID=America/New_York:20230122T140000
DTEND;TZID=America/New_York:20230122T140000
DTSTAMP:20260424T030542
CREATED:20230109T231549Z
LAST-MODIFIED:20230113T203220Z
UID:7174-1674396000-1674396000@lighthousemuseum.org
SUMMARY:Lighthouse Stamps of the United States - Exhibit Opening
DESCRIPTION:This exhibition showcases a selection of American lighthouses prominently featured on United States postage stamps. Each stamp\, displayed in mint condition and matched with a superbly rendered 22kt gold replica\, is accompanied by a full-color photograph and historical narrative that engagingly depicts the history of each lighthouse. \nRefreshments will be served. \nEntrance included with Museum admission. \nWe would like to recognize John & Mary Goodacre & Family\, donors of the Collection.
URL:https://lighthousemuseum.org/event/lighthouse-stamps-of-the-united-states-exhibit-opening/
LOCATION:NY
ATTACH;FMTTYPE=image/jpeg:https://lighthousemuseum.org/wp-content/uploads/2023/01/StampsExhibitWebsiteEvent.jpg
END:VEVENT
BEGIN:VEVENT
DTSTART;TZID=America/New_York:20230122T150000
DTEND;TZID=America/New_York:20230122T150000
DTSTAMP:20260424T030542
CREATED:20230109T230904Z
LAST-MODIFIED:20230109T230904Z
UID:7170-1674399600-1674399600@lighthousemuseum.org
SUMMARY:The 7:30 Boat - Author Presentation -Also available on Zoom
DESCRIPTION:Meet Art Cappabianca\, a retired member of the US Navy and the New York Police Department\, and author of “The 7:30 Boat”: a thriller that draws on the author’s years as an intelligence specialist in the Navy\, and as a sergeant/investigator with the NYPD. \nABOUT THE BOOK: Sea mines are the original stealth weapon that just silently sit and wait. Imagine the ensuing chaos that would result from an unexpected mine detonation in one of our harbors. This book examines the frightening “what-if. \nPurchase Tickets
URL:https://lighthousemuseum.org/event/the-730-boat-author-presentation-also-available-on-zoom/
LOCATION:NY
ATTACH;FMTTYPE=image/jpeg:https://lighthousemuseum.org/wp-content/uploads/2023/01/730ClubExhibitWebsiteEvent.jpg
END:VEVENT
END:VCALENDAR