BEGIN:VCALENDAR
VERSION:2.0
PRODID:-//National Lighthouse Museum - ECPv6.15.20//NONSGML v1.0//EN
CALSCALE:GREGORIAN
METHOD:PUBLISH
X-WR-CALNAME:National Lighthouse Museum
X-ORIGINAL-URL:https://lighthousemuseum.org
X-WR-CALDESC:Events for National Lighthouse Museum
REFRESH-INTERVAL;VALUE=DURATION:PT1H
X-Robots-Tag:noindex
X-PUBLISHED-TTL:PT1H
BEGIN:VTIMEZONE
TZID:America/New_York
BEGIN:DAYLIGHT
TZOFFSETFROM:-0500
TZOFFSETTO:-0400
TZNAME:EDT
DTSTART:20210314T070000
END:DAYLIGHT
BEGIN:STANDARD
TZOFFSETFROM:-0400
TZOFFSETTO:-0500
TZNAME:EST
DTSTART:20211107T060000
END:STANDARD
BEGIN:DAYLIGHT
TZOFFSETFROM:-0500
TZOFFSETTO:-0400
TZNAME:EDT
DTSTART:20220313T070000
END:DAYLIGHT
BEGIN:STANDARD
TZOFFSETFROM:-0400
TZOFFSETTO:-0500
TZNAME:EST
DTSTART:20221106T060000
END:STANDARD
BEGIN:DAYLIGHT
TZOFFSETFROM:-0500
TZOFFSETTO:-0400
TZNAME:EDT
DTSTART:20230312T070000
END:DAYLIGHT
BEGIN:STANDARD
TZOFFSETFROM:-0400
TZOFFSETTO:-0500
TZNAME:EST
DTSTART:20231105T060000
END:STANDARD
END:VTIMEZONE
BEGIN:VEVENT
DTSTART;TZID=America/New_York:20220911T150000
DTEND;TZID=America/New_York:20220911T190000
DTSTAMP:20260424T092206
CREATED:20220204T033511Z
LAST-MODIFIED:20220909T203343Z
UID:6184-1662908400-1662922800@lighthousemuseum.org
SUMMARY:Hudson River Dinner Cruise
DESCRIPTION:See the Little Red Lighthouse under the George Washington Bridge. Dinner includes three course dinner includes salad\, chicken or fish\, potato and vegetable\, wine\, dessert\, tea or coffee. Every Ticket Purchased Includes One Year FREE Membership* to the National Lighthouse Museum! *One per familyPURCHASE TICKETS
URL:https://lighthousemuseum.org/event/hudson-river-dinner-cruise/
LOCATION:NY
CATEGORIES:Boat Tours
ATTACH;FMTTYPE=image/jpeg:https://lighthousemuseum.org/wp-content/uploads/2022/02/nlm_boattour2022_web_new.jpg
END:VEVENT
BEGIN:VEVENT
DTSTART;TZID=America/New_York:20220911T150000
DTEND;TZID=America/New_York:20220911T190000
DTSTAMP:20260424T092206
CREATED:20220905T175616Z
LAST-MODIFIED:20220909T203343Z
UID:6772-1662908400-1662922800@lighthousemuseum.org
SUMMARY:Hudson River Dinner Cruise
DESCRIPTION:See the Little Red Lighthouse under the George Washington Bridge. Three course dinner includes salad\, chicken or fish\, potato and vegetable\, wine\, dessert\, tea or coffee. \nDinner Cruise: $90 for adults/ $50 for children \nTickets Purchased will include One Year FREE Membership* to the National Lighthouse Museum!\n*One FREE membership per family \nPURCHASE TICKETS
URL:https://lighthousemuseum.org/event/hudson-river-dinner-cruise-2/
LOCATION:NY
CATEGORIES:Boat Tours
ATTACH;FMTTYPE=image/jpeg:https://lighthousemuseum.org/wp-content/uploads/2022/02/nlm_boattour2022_web_new.jpg
END:VEVENT
BEGIN:VEVENT
DTSTART;TZID=America/New_York:20220913T000000
DTEND;TZID=America/New_York:20220913T000000
DTSTAMP:20260424T092206
CREATED:20220913T193542Z
LAST-MODIFIED:20220913T193542Z
UID:6816-1663027200-1663027200@lighthousemuseum.org
SUMMARY:Brilliant Minds Series - Weather Watchers
DESCRIPTION:Storms! Pounding waves! Keepers deal with many weather-related perils. We will examine what creates these difficult weather conditions\, how weather is measured\, and how boats and lighthouses contend with it. Projects may include creating a windsock\, snowstorm in a jar\, and weather logs.
URL:https://lighthousemuseum.org/event/brilliant-minds-series-weather-watchers/
LOCATION:NY
CATEGORIES:In Person Event
END:VEVENT
BEGIN:VEVENT
DTSTART;TZID=America/New_York:20220913T080000
DTEND;TZID=America/New_York:20220913T170000
DTSTAMP:20260424T092206
CREATED:20220913T193750Z
LAST-MODIFIED:20220913T193750Z
UID:6827-1663056000-1663088400@lighthousemuseum.org
SUMMARY:Brilliant Minds Fall Program Series - A keeper’s life could be  isolated and hard
DESCRIPTION:Still\, there were families including children who lived in these remote places. We will explore their daily lives. Projects may include gardening in harsh terrain\, coastal terrain dioramas\, keeper’s logs and tending an oil lamp. \nButton Text
URL:https://lighthousemuseum.org/event/brilliant-minds-fall-program-series-a-keepers-life-could-be-isolated-and-hard/
LOCATION:NY
CATEGORIES:In Person Event
ATTACH;FMTTYPE=image/jpeg:https://lighthousemuseum.org/wp-content/uploads/2022/09/BrialliantMindsWeb.jpg
END:VEVENT
BEGIN:VEVENT
DTSTART;TZID=America/New_York:20220913T093000
DTEND;TZID=America/New_York:20220913T110000
DTSTAMP:20260424T092206
CREATED:20220913T193251Z
LAST-MODIFIED:20220913T193251Z
UID:6822-1663061400-1663066800@lighthousemuseum.org
SUMMARY:Brilliant Minds Fall Program Series - Navigation Naturals
DESCRIPTION:Safely steering a boat around nature’s challenges is no easy task! We will look at how lighthouses aid in navigation in addition to making some of our own navigation tools. Projects may include compass making and creation of a sextant and mapping stars for navigation. \nButton Text
URL:https://lighthousemuseum.org/event/brilliant-minds-fall-program-series-navigation-naturals/
LOCATION:NY
CATEGORIES:In Person Event
ATTACH;FMTTYPE=image/jpeg:https://lighthousemuseum.org/wp-content/uploads/2022/09/BrialliantMindsWeb.jpg
END:VEVENT
BEGIN:VEVENT
DTSTART;TZID=America/New_York:20220917T093000
DTEND;TZID=America/New_York:20220917T110000
DTSTAMP:20260424T092206
CREATED:20220913T191427Z
LAST-MODIFIED:20220914T130656Z
UID:6817-1663407000-1663412400@lighthousemuseum.org
SUMMARY:Brilliant Minds Fall Program Series - Weather Watchers
DESCRIPTION:Storms! Pounding waves! Keepers deal with many weather-related perils. We will examine what creates these difficult weather conditions\, how weather is measured\, and how boats and lighthouses contend with it. Projects may include creating a windsock\, snowstorm in a jar\, and weather logs. \nPURCHASE TICKETS
URL:https://lighthousemuseum.org/event/brilliant-minds-fall-program-series-weather-watchers/
LOCATION:NY
CATEGORIES:In Person Event
ATTACH;FMTTYPE=image/jpeg:https://lighthousemuseum.org/wp-content/uploads/2022/09/BrialliantMindsWeb.jpg
END:VEVENT
BEGIN:VEVENT
DTSTART;TZID=America/New_York:20220918T140000
DTEND;TZID=America/New_York:20220918T180000
DTSTAMP:20260424T092206
CREATED:20220824T050103Z
LAST-MODIFIED:20220824T050103Z
UID:6731-1663509600-1663524000@lighthousemuseum.org
SUMMARY:Fig Fest 2022
DESCRIPTION:Fig Fest 2022 \nSunday\, September 18th \n2-6pm \n  \nNational Lighthouse Museum \n200 The Promenade at Lighthouse Point \nStaten Island\, NY 10301 \n  \nFig Fest: $5.00 Suggested Donation \nPlus Free Entry into the \nNational Lighthouse Museum! \n  \nEntertainment • Food • Vendors \nA Fig King will be Crowned! \nMeet Sir Isaac “Fig” Newton! \nAll invited to enter Fig King Contest with food or fig entries. \nParticipants must check into Judging Area. Registration closes at 3pm. Winner announced at 4pm. \n  \nSponsored by: \nRobert DeFalco Realty \nNorthfield Bank \nNYC Department of Cultural Affairs \nCouncil Member Kamillah Hanks \nBentson & Company  •  ICC Commonwealth \n 
URL:https://lighthousemuseum.org/event/fig-fest-2022/
LOCATION:NY
CATEGORIES:In Person Event
ATTACH;FMTTYPE=image/jpeg:https://lighthousemuseum.org/wp-content/uploads/2022/08/FigFest2022Web.jpg
END:VEVENT
BEGIN:VEVENT
DTSTART;TZID=America/New_York:20220924T093000
DTEND;TZID=America/New_York:20220924T230000
DTSTAMP:20260424T092206
CREATED:20220913T192741Z
LAST-MODIFIED:20220914T130749Z
UID:6820-1664011800-1664060400@lighthousemuseum.org
SUMMARY:Brilliant Minds Fall Program Series - Weather Watchers
DESCRIPTION:Storms! Pounding waves! Keepers deal with many weather-related perils. We will examine what creates these difficult weather conditions\, how weather is measured\, and how boats and lighthouses contend with it. Projects may include creating a windsock\, snowstorm in a jar\, and weather logs. \nPURCHASE TICKETS
URL:https://lighthousemuseum.org/event/brilliant-minds-fall-program-series-weather-watchers-2/
LOCATION:NY
ATTACH;FMTTYPE=image/jpeg:https://lighthousemuseum.org/wp-content/uploads/2022/09/BrialliantMindsWeb.jpg
END:VEVENT
END:VCALENDAR