BEGIN:VCALENDAR
VERSION:2.0
PRODID:-//National Lighthouse Museum - ECPv6.15.20//NONSGML v1.0//EN
CALSCALE:GREGORIAN
METHOD:PUBLISH
X-WR-CALNAME:National Lighthouse Museum
X-ORIGINAL-URL:https://lighthousemuseum.org
X-WR-CALDESC:Events for National Lighthouse Museum
REFRESH-INTERVAL;VALUE=DURATION:PT1H
X-Robots-Tag:noindex
X-PUBLISHED-TTL:PT1H
BEGIN:VTIMEZONE
TZID:America/New_York
BEGIN:DAYLIGHT
TZOFFSETFROM:-0500
TZOFFSETTO:-0400
TZNAME:EDT
DTSTART:20210314T070000
END:DAYLIGHT
BEGIN:STANDARD
TZOFFSETFROM:-0400
TZOFFSETTO:-0500
TZNAME:EST
DTSTART:20211107T060000
END:STANDARD
BEGIN:DAYLIGHT
TZOFFSETFROM:-0500
TZOFFSETTO:-0400
TZNAME:EDT
DTSTART:20220313T070000
END:DAYLIGHT
BEGIN:STANDARD
TZOFFSETFROM:-0400
TZOFFSETTO:-0500
TZNAME:EST
DTSTART:20221106T060000
END:STANDARD
BEGIN:DAYLIGHT
TZOFFSETFROM:-0500
TZOFFSETTO:-0400
TZNAME:EDT
DTSTART:20230312T070000
END:DAYLIGHT
BEGIN:STANDARD
TZOFFSETFROM:-0400
TZOFFSETTO:-0500
TZNAME:EST
DTSTART:20231105T060000
END:STANDARD
END:VTIMEZONE
BEGIN:VEVENT
DTSTART;TZID=America/New_York:20220806T170000
DTEND;TZID=America/New_York:20220806T170000
DTSTAMP:20260424T110410
CREATED:20220623T134911Z
LAST-MODIFIED:20220623T134911Z
UID:6565-1659805200-1659805200@lighthousemuseum.org
SUMMARY:Swinging in the Moonlight - 12th Annual Light Keeper’s Gala
DESCRIPTION:Swinging in the Moonlight\n12th Annual Light Keeper’s Gala \nCelebrate the Big Band Sound of the 40s \nSaturday\, August 6\, 2022\n5pm Awards & Champagne Reception\nat National Lighthouse Museum\nPerformance by Ryan Kelly Berkowirtz \n6:30pm Board the Atlantis \n7pm Dinner Cruise Leaves Port \nCocktails\, Buffet Dinner and\nMusic by DJ Mateo\, Raffles\, Silent and Live Auction \n40s Attire Optional \nHonoring\nWind In Our Sails Award\nHonorable Debi Rose\nFormer NYC Council Member \nLight Keeper’s Award\nSally Snowman\nCurrent & Last Living Light Keeper of the Boston Light \nMaritime Historian Award\nBill Miller – Mr. Ocean Liner\nInternational authority on the subject of\nocean liners & cruise ships \nCommunity Lamplighter Award\nJeff and Denise Henick\nSTOP & STOR \nOn the Horizon…Beacon Award\nAlexandra Oxaal\nPresident\, NYS Society\,\n& Curator\, National Society\nChildren of the American Revolution \nPURCHASE TICKETS
URL:https://lighthousemuseum.org/event/swinging-in-the-moonlight-12th-annual-light-keepers-gala/
LOCATION:NY
CATEGORIES:In Person Event
ATTACH;FMTTYPE=image/jpeg:https://lighthousemuseum.org/wp-content/uploads/2022/06/GalaWeb.jpg
END:VEVENT
BEGIN:VEVENT
DTSTART;TZID=America/New_York:20220807T130000
DTEND;TZID=America/New_York:20220807T170000
DTSTAMP:20260424T110410
CREATED:20220204T041630Z
LAST-MODIFIED:20220213T031307Z
UID:6228-1659877200-1659891600@lighthousemuseum.org
SUMMARY:Lighthouse Weekend Signature Lighthouse Boat Tour
DESCRIPTION:This popular boat tour familiarizes passengers with key lighthouses that facilitate safe passage from the Atlantic Ocean into Lower New York Harbor. Every Ticket Purchased Includes One Year FREE Membership* to the National Lighthouse Museum! *One per familyPURCHASE TICKETS
URL:https://lighthousemuseum.org/event/lighthouse-weekend-signature-lighthouse-tour/
LOCATION:NY
CATEGORIES:Boat Tours
ATTACH;FMTTYPE=image/jpeg:https://lighthousemuseum.org/wp-content/uploads/2022/02/nlm_boattour2022_web_new.jpg
END:VEVENT
BEGIN:VEVENT
DTSTART;TZID=America/New_York:20220813T093000
DTEND;TZID=America/New_York:20220813T110000
DTSTAMP:20260424T110410
CREATED:20220705T192148Z
LAST-MODIFIED:20220705T192300Z
UID:6614-1660383000-1660388400@lighthousemuseum.org
SUMMARY:Brilliant Minds All Summer Long!: A keeper’s life could be isolated and hard
DESCRIPTION:Brilliant Minds All Summer Long! \nThis program focuses on STEAM education (Science\, Technology\, Engineering\, Arts and Math).\nEvery morning will include not only history and STEAM explanations\, but also at least one hands on activity. \nEvery week programming runs Saturdays\, 9:30 am to 11:00 am.\nGeared for Parents/Caregivers and Third-Fifth Graders. \nAugust 13\, 2022\nA keeper’s life could be isolated and hard: Still\, there were families including children who lived in these remote places.  We will explore their daily lives.  Projects may include gardening in harsh terrain\, coastal terrain dioramas\, keeper’s logs and tending an oil lamp. \n$15 for each adult with child per session/$75 for all sessions\n200 The Promenade at Lighthouse Point\, Staten Island\, NY 10301 \nPURCHASE TICKETS
URL:https://lighthousemuseum.org/event/6614/
LOCATION:NY
ATTACH;FMTTYPE=image/jpeg:https://lighthousemuseum.org/wp-content/uploads/2022/07/BrialliantMindsWeb.jpg
END:VEVENT
BEGIN:VEVENT
DTSTART;TZID=America/New_York:20220820T093000
DTEND;TZID=America/New_York:20220820T110000
DTSTAMP:20260424T110410
CREATED:20220705T192559Z
LAST-MODIFIED:20220705T192559Z
UID:6618-1660987800-1660993200@lighthousemuseum.org
SUMMARY:Brilliant Minds All Summer Long!: Advanced Design and Architecture
DESCRIPTION:Brilliant Minds All Summer Long! \nThis program focuses on STEAM education (Science\, Technology\, Engineering\, Arts and Math).\nEvery morning will include not only history and STEAM explanations\, but also at least one hands on activity. \nEvery week programming runs Saturdays\, 9:30 am to 11:00 am.\nGeared for Parents/Caregivers and Third-Fifth Graders. \nAugust 20\, 2022\nAdvanced Design and Architecture: We will focus on designing lighthouses including why color\, height and durability matter. Projects may include building a lighthouse model with a working light and sponge painting of our design ideas.\nhttps://fareharbor.com/embeds/book/lighthousemuseum/items/291840/availability/936926894/book/?full-items=yes&flow=452712 \n$15 for each adult with child per session/$75 for all sessions\n200 The Promenade at Lighthouse Point\, Staten Island\, NY 10301
URL:https://lighthousemuseum.org/event/brilliant-minds-all-summer-long-advanced-design-and-architecture/
LOCATION:NY
ATTACH;FMTTYPE=image/jpeg:https://lighthousemuseum.org/wp-content/uploads/2022/07/BrialliantMindsWeb.jpg
END:VEVENT
BEGIN:VEVENT
DTSTART;TZID=America/New_York:20220827T093000
DTEND;TZID=America/New_York:20220827T110000
DTSTAMP:20260424T110410
CREATED:20220705T192732Z
LAST-MODIFIED:20220705T192732Z
UID:6620-1661592600-1661598000@lighthousemuseum.org
SUMMARY:Brilliant Minds All Summer Long!: Design and Architecture:
DESCRIPTION:Brilliant Minds All Summer Long! \nThis program focuses on STEAM education (Science\, Technology\, Engineering\, Arts and Math).\nEvery morning will include not only history and STEAM explanations\, but also at least one hands on activity. \nEvery week programming runs Saturdays\, 9:30 am to 11:00 am.\nGeared for Parents/Caregivers and Third-Fifth Graders. \nAugust 27\, 2022\nDesign and Architecture: This session builds on previous ideas of\nlighthouse height and placement to specific hazards of locations both ships and lighthouses face and focuses on problem solving. Projects may include model building or drafting focused on sealing with a specific challenge of weather\, geography\, or lighting.\nhttps://fareharbor.com/embeds/book/lighthousemuseum/items/291840/availability/936926877/book/?full-items=yes&flow=452712 \n$15 for each adult with child per session/$75 for all sessions\n200 The Promenade at Lighthouse Point\, Staten Island\, NY 10301
URL:https://lighthousemuseum.org/event/brilliant-minds-all-summer-long-design-and-architecture/
LOCATION:NY
ATTACH;FMTTYPE=image/jpeg:https://lighthousemuseum.org/wp-content/uploads/2022/07/BrialliantMindsWeb.jpg
END:VEVENT
END:VCALENDAR