BEGIN:VCALENDAR
VERSION:2.0
PRODID:-//National Lighthouse Museum - ECPv6.15.20//NONSGML v1.0//EN
CALSCALE:GREGORIAN
METHOD:PUBLISH
X-ORIGINAL-URL:https://lighthousemuseum.org
X-WR-CALDESC:Events for National Lighthouse Museum
REFRESH-INTERVAL;VALUE=DURATION:PT1H
X-Robots-Tag:noindex
X-PUBLISHED-TTL:PT1H
BEGIN:VTIMEZONE
TZID:America/New_York
BEGIN:DAYLIGHT
TZOFFSETFROM:-0500
TZOFFSETTO:-0400
TZNAME:EDT
DTSTART:20240310T070000
END:DAYLIGHT
BEGIN:STANDARD
TZOFFSETFROM:-0400
TZOFFSETTO:-0500
TZNAME:EST
DTSTART:20241103T060000
END:STANDARD
BEGIN:DAYLIGHT
TZOFFSETFROM:-0500
TZOFFSETTO:-0400
TZNAME:EDT
DTSTART:20250309T070000
END:DAYLIGHT
BEGIN:STANDARD
TZOFFSETFROM:-0400
TZOFFSETTO:-0500
TZNAME:EST
DTSTART:20251102T060000
END:STANDARD
BEGIN:DAYLIGHT
TZOFFSETFROM:-0500
TZOFFSETTO:-0400
TZNAME:EDT
DTSTART:20260308T070000
END:DAYLIGHT
BEGIN:STANDARD
TZOFFSETFROM:-0400
TZOFFSETTO:-0500
TZNAME:EST
DTSTART:20261101T060000
END:STANDARD
END:VTIMEZONE
BEGIN:VEVENT
DTSTART;TZID=America/New_York:20250216T140000
DTEND;TZID=America/New_York:20250216T160000
DTSTAMP:20260422T144622
CREATED:20250121T182621Z
LAST-MODIFIED:20250121T182719Z
UID:11089-1739714400-1739721600@lighthousemuseum.org
SUMMARY:Professor Joseph Henry and His Work with the USLHS Depot
DESCRIPTION:With speaker Dr. Michael Vigorito \nProfessor Joseph Henry (1797–1878)\, a pioneering American physicist and the first Secretary of the Smithsonian Institution\, made significant contributions to both scientific innovation and public service.  \nAt the U.S. Lighthouse Depot on Staten Island\, Henry spearheaded efforts to modernize America’s lighthouse system. His experiments and innovations enhanced maritime safety by improving lighthouse technology.  \nHenry also recognized the importance of meteorological data for public safety\, laying the groundwork for the eventual creation of the U.S. Weather Bureau. His contributions reflect a legacy of using science to advance both public welfare and knowledge\, particularly at the intersection of maritime safety and meteorology. \nAbout the Speaker: Dr. Vigorito has been a full-time faculty member of the Psychology Department at Seton Hall University since 1989.  He received his doctorate in Experimental Psychology at the University of Massachusetts-Amherst and post-doctoral training in behavioral pharmacology at Rutgers University.  \nPurchase Ticket!\nClick here for Flyer PDF.
URL:https://lighthousemuseum.org/event/professor-joseph-henry-and-his-work-with-the-uslhs-depot/
LOCATION:National Lighthouse Museum\, 200 The Promenade at Lighthouse Point\, Staten Island\, NY\, 10301
CATEGORIES:In Person Event,Lecture
ATTACH;FMTTYPE=image/jpeg:https://lighthousemuseum.org/wp-content/uploads/2025/01/JosephHenryWebGraphic.jpg
END:VEVENT
END:VCALENDAR