BEGIN:VCALENDAR
VERSION:2.0
PRODID:-//National Lighthouse Museum - ECPv6.15.20//NONSGML v1.0//EN
CALSCALE:GREGORIAN
METHOD:PUBLISH
X-WR-CALNAME:National Lighthouse Museum
X-ORIGINAL-URL:https://lighthousemuseum.org
X-WR-CALDESC:Events for National Lighthouse Museum
REFRESH-INTERVAL;VALUE=DURATION:PT1H
X-Robots-Tag:noindex
X-PUBLISHED-TTL:PT1H
BEGIN:VTIMEZONE
TZID:America/New_York
BEGIN:DAYLIGHT
TZOFFSETFROM:-0500
TZOFFSETTO:-0400
TZNAME:EDT
DTSTART:20240310T070000
END:DAYLIGHT
BEGIN:STANDARD
TZOFFSETFROM:-0400
TZOFFSETTO:-0500
TZNAME:EST
DTSTART:20241103T060000
END:STANDARD
BEGIN:DAYLIGHT
TZOFFSETFROM:-0500
TZOFFSETTO:-0400
TZNAME:EDT
DTSTART:20250309T070000
END:DAYLIGHT
BEGIN:STANDARD
TZOFFSETFROM:-0400
TZOFFSETTO:-0500
TZNAME:EST
DTSTART:20251102T060000
END:STANDARD
BEGIN:DAYLIGHT
TZOFFSETFROM:-0500
TZOFFSETTO:-0400
TZNAME:EDT
DTSTART:20260308T070000
END:DAYLIGHT
BEGIN:STANDARD
TZOFFSETFROM:-0400
TZOFFSETTO:-0500
TZNAME:EST
DTSTART:20261101T060000
END:STANDARD
END:VTIMEZONE
BEGIN:VEVENT
DTSTART;TZID=America/New_York:20250323T140000
DTEND;TZID=America/New_York:20250323T160000
DTSTAMP:20260422T114016
CREATED:20250314T183545Z
LAST-MODIFIED:20250314T183735Z
UID:11151-1742738400-1742745600@lighthousemuseum.org
SUMMARY:State of the Harbor with the Billion Oyster Project
DESCRIPTION:Billion Oyster Project is a New York City-based nonprofit organization on a mission to restore 1 billion oysters to NYC’s Harbor by 2035 through restoration and education initiatives. Oysters provide a number of beneficial effects for the ecosystem including filtering water via filter feeding\, increasing habitat for other animals\, and protecting shorelines from storm surges.  \nLearn about the state of the harbor from Billion Oyster Project staff\, and how you can get involved in restoration efforts in your area. \nZeke King Phillips grew up in (mostly) land-locked Pennsylvania\, but always dreamed of becoming a marine biologist. He studied geosciences in college\, focusing on paleontology\, and is currently working on a graduate degree in geosciences\, ecology\, and climate science. He’s also interested in science-focused public outreach\, community engagement and is super excited to be involved with community science. \nPurchase Tickets
URL:https://lighthousemuseum.org/event/state-of-the-harbor-with-the-billion-oyster-project/
LOCATION:National Lighthouse Museum\, 200 The Promenade at Lighthouse Point\, Staten Island\, NY\, 10301
CATEGORIES:Lecture
ATTACH;FMTTYPE=image/jpeg:https://lighthousemuseum.org/wp-content/uploads/2025/03/CityofWaterDayWebGraphic2-scaled.jpg
END:VEVENT
END:VCALENDAR