BEGIN:VCALENDAR
VERSION:2.0
PRODID:-//National Lighthouse Museum - ECPv6.15.20//NONSGML v1.0//EN
CALSCALE:GREGORIAN
METHOD:PUBLISH
X-ORIGINAL-URL:https://lighthousemuseum.org
X-WR-CALDESC:Events for National Lighthouse Museum
REFRESH-INTERVAL;VALUE=DURATION:PT1H
X-Robots-Tag:noindex
X-PUBLISHED-TTL:PT1H
BEGIN:VTIMEZONE
TZID:America/New_York
BEGIN:DAYLIGHT
TZOFFSETFROM:-0500
TZOFFSETTO:-0400
TZNAME:EDT
DTSTART:20200308T070000
END:DAYLIGHT
BEGIN:STANDARD
TZOFFSETFROM:-0400
TZOFFSETTO:-0500
TZNAME:EST
DTSTART:20201101T060000
END:STANDARD
BEGIN:DAYLIGHT
TZOFFSETFROM:-0500
TZOFFSETTO:-0400
TZNAME:EDT
DTSTART:20210314T070000
END:DAYLIGHT
BEGIN:STANDARD
TZOFFSETFROM:-0400
TZOFFSETTO:-0500
TZNAME:EST
DTSTART:20211107T060000
END:STANDARD
BEGIN:DAYLIGHT
TZOFFSETFROM:-0500
TZOFFSETTO:-0400
TZNAME:EDT
DTSTART:20220313T070000
END:DAYLIGHT
BEGIN:STANDARD
TZOFFSETFROM:-0400
TZOFFSETTO:-0500
TZNAME:EST
DTSTART:20221106T060000
END:STANDARD
END:VTIMEZONE
BEGIN:VEVENT
DTSTART;TZID=America/New_York:20211114T140000
DTEND;TZID=America/New_York:20211114T140000
DTSTAMP:20260425T104503
CREATED:20211026T023547Z
LAST-MODIFIED:20220213T030951Z
UID:6095-1636898400-1636898400@lighthousemuseum.org
SUMMARY:Pilot Ships in NY - A Presentation by Captain Joe Ahlstrom
DESCRIPTION:In Person and On Zoom!\nShip pilots safely navigate marine vessels into or out of harbors. They specialize in the knowledge of weather\, tides\, water depths\, local winds\, currents\, and marine traffic to navigate a ship or vessel safely. Learn about Pilot Ships\, how you become a Pilot and how they help in logistics of the harbor. \nPURCHASE TICKETS
URL:https://lighthousemuseum.org/event/pilot-ships-in-ny-a-presentation-by-captain-joe-ahlstrom/
LOCATION:National Lighthouse Museum\, 200 The Promenade at Lighthouse Point\, Staten Island\, NY\, 10301
CATEGORIES:Lecture
ATTACH;FMTTYPE=image/jpeg:https://lighthousemuseum.org/wp-content/uploads/2021/10/pilotshipsforwebsite.jpg
END:VEVENT
END:VCALENDAR