BEGIN:VCALENDAR
VERSION:2.0
PRODID:-//National Lighthouse Museum - ECPv6.15.20//NONSGML v1.0//EN
CALSCALE:GREGORIAN
METHOD:PUBLISH
X-ORIGINAL-URL:https://lighthousemuseum.org
X-WR-CALDESC:Events for National Lighthouse Museum
REFRESH-INTERVAL;VALUE=DURATION:PT1H
X-Robots-Tag:noindex
X-PUBLISHED-TTL:PT1H
BEGIN:VTIMEZONE
TZID:America/New_York
BEGIN:DAYLIGHT
TZOFFSETFROM:-0500
TZOFFSETTO:-0400
TZNAME:EDT
DTSTART:20240310T070000
END:DAYLIGHT
BEGIN:STANDARD
TZOFFSETFROM:-0400
TZOFFSETTO:-0500
TZNAME:EST
DTSTART:20241103T060000
END:STANDARD
BEGIN:DAYLIGHT
TZOFFSETFROM:-0500
TZOFFSETTO:-0400
TZNAME:EDT
DTSTART:20250309T070000
END:DAYLIGHT
BEGIN:STANDARD
TZOFFSETFROM:-0400
TZOFFSETTO:-0500
TZNAME:EST
DTSTART:20251102T060000
END:STANDARD
BEGIN:DAYLIGHT
TZOFFSETFROM:-0500
TZOFFSETTO:-0400
TZNAME:EDT
DTSTART:20260308T070000
END:DAYLIGHT
BEGIN:STANDARD
TZOFFSETFROM:-0400
TZOFFSETTO:-0500
TZNAME:EST
DTSTART:20261101T060000
END:STANDARD
END:VTIMEZONE
BEGIN:VEVENT
DTSTART;TZID=America/New_York:20251019T110000
DTEND;TZID=America/New_York:20251019T163000
DTSTAMP:20260422T020647
CREATED:20250423T201715Z
LAST-MODIFIED:20251014T154408Z
UID:11198-1760871600-1760891400@lighthousemuseum.org
SUMMARY:Fall Foliage Tour up the Hudson River to Haunted Sleepy Hollow - SOLD OUT!
DESCRIPTION:Explore fascinating and mysterious sites unfamiliar to most New Yorkers on this exciting boat ride along the Hudson River. \nUp the Hudson River to Tarrytown Light near the legendary Sleepy Hollow. See the Little Red Lighthouse under the George Washington Bridge along this scenic boat tour. Along the way\, take in the stunning fall foliage along the shores of the mighty\, historic\, Hudson River. \nTickets are non-refundable. \nLighthouse Boat Tours commence rain or shine. \nThe boat leaves from the National Lighthouse Museum. Admission to Museum is FREE for Boat Tour ticketholders. Please call the museum at 718-390-0040 for further information if needed.
URL:https://lighthousemuseum.org/event/fall-foliage-tour-up-the-hudson-river-to-haunted-sleepy-hollow/
LOCATION:National Lighthouse Museum\, 200 The Promenade at Lighthouse Point\, Staten Island\, NY\, 10301
CATEGORIES:Boat Tours
ATTACH;FMTTYPE=image/jpeg:https://lighthousemuseum.org/wp-content/uploads/2025/04/BoatTourHeader.jpg
END:VEVENT
END:VCALENDAR