BEGIN:VCALENDAR
VERSION:2.0
PRODID:-//National Lighthouse Museum - ECPv6.15.20//NONSGML v1.0//EN
CALSCALE:GREGORIAN
METHOD:PUBLISH
X-ORIGINAL-URL:https://lighthousemuseum.org
X-WR-CALDESC:Events for National Lighthouse Museum
REFRESH-INTERVAL;VALUE=DURATION:PT1H
X-Robots-Tag:noindex
X-PUBLISHED-TTL:PT1H
BEGIN:VTIMEZONE
TZID:America/New_York
BEGIN:DAYLIGHT
TZOFFSETFROM:-0500
TZOFFSETTO:-0400
TZNAME:EDT
DTSTART:20240310T070000
END:DAYLIGHT
BEGIN:STANDARD
TZOFFSETFROM:-0400
TZOFFSETTO:-0500
TZNAME:EST
DTSTART:20241103T060000
END:STANDARD
BEGIN:DAYLIGHT
TZOFFSETFROM:-0500
TZOFFSETTO:-0400
TZNAME:EDT
DTSTART:20250309T070000
END:DAYLIGHT
BEGIN:STANDARD
TZOFFSETFROM:-0400
TZOFFSETTO:-0500
TZNAME:EST
DTSTART:20251102T060000
END:STANDARD
BEGIN:DAYLIGHT
TZOFFSETFROM:-0500
TZOFFSETTO:-0400
TZNAME:EDT
DTSTART:20260308T070000
END:DAYLIGHT
BEGIN:STANDARD
TZOFFSETFROM:-0400
TZOFFSETTO:-0500
TZNAME:EST
DTSTART:20261101T060000
END:STANDARD
END:VTIMEZONE
BEGIN:VEVENT
DTSTART;TZID=America/New_York:20250118T120000
DTEND;TZID=America/New_York:20250118T130000
DTSTAMP:20260422T081131
CREATED:20241129T192427Z
LAST-MODIFIED:20241129T192648Z
UID:11056-1737201600-1737205200@lighthousemuseum.org
SUMMARY:Little Lights Storytime Corner
DESCRIPTION:Young minds will embark on whimsical adventures with the beloved series “The Lighthouse Keeper” by writers Ronda and David Armitage. For children ages 5-10. \nFeaturing the The Lighthouse Keeper’s Lunch. \nJoin us for nautical adventures\, interactive activities\, and the chance to meet fellow young book enthusiasts. Parents are welcome to stay and enjoy the joyous atmosphere\, as our trained storytellers bring characters to life and ignite imaginations. It’s a weekly celebration of literacy\, creativity\, and community spirit. See you there! \nRSVP today!\nClick here for Flyer PDF.
URL:https://lighthousemuseum.org/event/little-lights-storytime-corner-6/
LOCATION:NY
CATEGORIES:In Person Event
ATTACH;FMTTYPE=image/jpeg:https://lighthousemuseum.org/wp-content/uploads/2024/11/LittleLights2024WebGraphic-3-scaled.jpg
END:VEVENT
END:VCALENDAR