BEGIN:VCALENDAR
VERSION:2.0
PRODID:-//National Lighthouse Museum - ECPv6.15.20//NONSGML v1.0//EN
CALSCALE:GREGORIAN
METHOD:PUBLISH
X-WR-CALNAME:National Lighthouse Museum
X-ORIGINAL-URL:https://lighthousemuseum.org
X-WR-CALDESC:Events for National Lighthouse Museum
REFRESH-INTERVAL;VALUE=DURATION:PT1H
X-Robots-Tag:noindex
X-PUBLISHED-TTL:PT1H
BEGIN:VTIMEZONE
TZID:America/New_York
BEGIN:DAYLIGHT
TZOFFSETFROM:-0500
TZOFFSETTO:-0400
TZNAME:EDT
DTSTART:20230312T070000
END:DAYLIGHT
BEGIN:STANDARD
TZOFFSETFROM:-0400
TZOFFSETTO:-0500
TZNAME:EST
DTSTART:20231105T060000
END:STANDARD
BEGIN:DAYLIGHT
TZOFFSETFROM:-0500
TZOFFSETTO:-0400
TZNAME:EDT
DTSTART:20240310T070000
END:DAYLIGHT
BEGIN:STANDARD
TZOFFSETFROM:-0400
TZOFFSETTO:-0500
TZNAME:EST
DTSTART:20241103T060000
END:STANDARD
BEGIN:DAYLIGHT
TZOFFSETFROM:-0500
TZOFFSETTO:-0400
TZNAME:EDT
DTSTART:20250309T070000
END:DAYLIGHT
BEGIN:STANDARD
TZOFFSETFROM:-0400
TZOFFSETTO:-0500
TZNAME:EST
DTSTART:20251102T060000
END:STANDARD
END:VTIMEZONE
BEGIN:VEVENT
DTSTART;TZID=America/New_York:20240912T180000
DTEND;TZID=America/New_York:20240912T200000
DTSTAMP:20260422T144325
CREATED:20240826T093105Z
LAST-MODIFIED:20240826T093105Z
UID:10966-1726164000-1726171200@lighthousemuseum.org
SUMMARY:Environmental Community Meeting
DESCRIPTION:Join the National Lighthouse Museum\nand the NY-NJ Harbor & Estuary Program\nfor a local community meeting! \nTell us about your local community concerns!\nHow do you use your waterways?\nWhat kinds of programs do you want to see in the future? \nRefreshments Provided! \nCall to RSVP: (718)390-0040\nor email: eballadares@hudsonriver.org
URL:https://lighthousemuseum.org/event/environmental-community-meeting/
LOCATION:National Lighthouse Museum\, 200 The Promenade at Lighthouse Point\, Staten Island\, NY\, 10301
CATEGORIES:In Person Event
ATTACH;FMTTYPE=image/jpeg:https://lighthousemuseum.org/wp-content/uploads/2024/08/CommunityMeetingWebGraphic-scaled.jpg
END:VEVENT
END:VCALENDAR