BEGIN:VCALENDAR
VERSION:2.0
PRODID:-//National Lighthouse Museum - ECPv6.15.20//NONSGML v1.0//EN
CALSCALE:GREGORIAN
METHOD:PUBLISH
X-WR-CALNAME:National Lighthouse Museum
X-ORIGINAL-URL:https://lighthousemuseum.org
X-WR-CALDESC:Events for National Lighthouse Museum
REFRESH-INTERVAL;VALUE=DURATION:PT1H
X-Robots-Tag:noindex
X-PUBLISHED-TTL:PT1H
BEGIN:VTIMEZONE
TZID:America/New_York
BEGIN:DAYLIGHT
TZOFFSETFROM:-0500
TZOFFSETTO:-0400
TZNAME:EDT
DTSTART:20230312T070000
END:DAYLIGHT
BEGIN:STANDARD
TZOFFSETFROM:-0400
TZOFFSETTO:-0500
TZNAME:EST
DTSTART:20231105T060000
END:STANDARD
BEGIN:DAYLIGHT
TZOFFSETFROM:-0500
TZOFFSETTO:-0400
TZNAME:EDT
DTSTART:20240310T070000
END:DAYLIGHT
BEGIN:STANDARD
TZOFFSETFROM:-0400
TZOFFSETTO:-0500
TZNAME:EST
DTSTART:20241103T060000
END:STANDARD
BEGIN:DAYLIGHT
TZOFFSETFROM:-0500
TZOFFSETTO:-0400
TZNAME:EDT
DTSTART:20250309T070000
END:DAYLIGHT
BEGIN:STANDARD
TZOFFSETFROM:-0400
TZOFFSETTO:-0500
TZNAME:EST
DTSTART:20251102T060000
END:STANDARD
END:VTIMEZONE
BEGIN:VEVENT
DTSTART;TZID=America/New_York:20240804T180000
DTEND;TZID=America/New_York:20240804T210000
DTSTAMP:20260422T162045
CREATED:20240513T150629Z
LAST-MODIFIED:20240513T150629Z
UID:10838-1722794400-1722805200@lighthousemuseum.org
SUMMARY:Lighthouse Weekend Signature Tour!
DESCRIPTION:Popularly regarded as NLM’s “Signature Tour” this exciting boat tour\, familiarizes passengers with key lighthouses that facilitate safe passage from the Atlantic Ocean into Lower New York Harbor. The series will be narrated by Wade R. Goria. Wade is a National Lighthouse Museum historian\, author\, and former New York University professor. \nWe explore a total of nine lighthouses: Battery Weed Light located atop Fort Wadsworth\, the Coney Island Lighthouse\, West Bank and Romer Shoals Lighthouses\, the Sandy Hook Light\, The Twin Lighthouses of Navesink at Atlantic Highlands\, the Staten Island Rear Range at Richmond Hill\, the New Dorp Light\, and the Elm Tree Beacon at Miller Field\, also located in New Dorp. \nAfter sailing past historic Forts Wadsworth and Hamilton at the Narrows\, we head under the Verrazano Bridge passing the former Quarantine stations of Hoffman and Swineburn Islands. \nEnroute to the Sandy Hook Light\, situated near the tip of an eight mile spit at Fort Hancock\, a coastal defense base that once guarded the approach of NY Harbor\, we learn about the role that this proud and historic beacon has played on behalf of NYC’s maritime trade and its commerce over the centuries. \nCruising on the Ambrose Channel\, Sandy Hook Bay and the Shrewsberry River we journey along the Atlantic Highlands past the towns of Keyport and Leonardo\, home to Naval Weapons Station Earle and the world’s longest pier as well as Mount Mitchill\, the highest point on the Atlantic coast from Maine to the Yucatan in Mexico. The Atlantic Highlands is home to one of the most spectaular lighthouses in America: the Navesink Twin Light Station\, the very first structure in America witnessed by immigrants following an Atlantic crossing. \nUpon our return along the Ambrose Channel into Lower New York Bay\, we head near to the Coney Island Lighthouse at Norton’s Point in Seagate\, Coney Island\, where famed Keeper Frank Schubert\, NYC’s last Light Keeper\, resided for 40 years. We are also treated to a memorable image: the bright and powerful lens emanating from Staten Island’s Rear Range Light\, located atop Richmond Hill. \nTickets are non-refundable. \nLighthouse Boat Tours commence rain or shine. \nThe boat leaves from the NYC Ferry-Fast Ferry Dock. The boat does not leave from the National Lighthouse Museum. 1 Bay Street is a large general area which includes the St. George Ferry Terminal and the Empire Outlets. The outdoor NYC Ferry-Fast Ferry Dock does not have its own address. Please call the museum for further information if needed. \nGet your tickets today!
URL:https://lighthousemuseum.org/event/lighthouse-weekend-signature-tour/
LOCATION:NY
CATEGORIES:Boat Tours
ATTACH;FMTTYPE=image/jpeg:https://lighthousemuseum.org/wp-content/uploads/2024/05/LighthouseBoatTour2024WebEvent.jpg
END:VEVENT
END:VCALENDAR