BEGIN:VCALENDAR
VERSION:2.0
PRODID:-//National Lighthouse Museum - ECPv6.15.20//NONSGML v1.0//EN
CALSCALE:GREGORIAN
METHOD:PUBLISH
X-WR-CALNAME:National Lighthouse Museum
X-ORIGINAL-URL:https://lighthousemuseum.org
X-WR-CALDESC:Events for National Lighthouse Museum
REFRESH-INTERVAL;VALUE=DURATION:PT1H
X-Robots-Tag:noindex
X-PUBLISHED-TTL:PT1H
BEGIN:VTIMEZONE
TZID:America/New_York
BEGIN:DAYLIGHT
TZOFFSETFROM:-0500
TZOFFSETTO:-0400
TZNAME:EDT
DTSTART:20230312T070000
END:DAYLIGHT
BEGIN:STANDARD
TZOFFSETFROM:-0400
TZOFFSETTO:-0500
TZNAME:EST
DTSTART:20231105T060000
END:STANDARD
BEGIN:DAYLIGHT
TZOFFSETFROM:-0500
TZOFFSETTO:-0400
TZNAME:EDT
DTSTART:20240310T070000
END:DAYLIGHT
BEGIN:STANDARD
TZOFFSETFROM:-0400
TZOFFSETTO:-0500
TZNAME:EST
DTSTART:20241103T060000
END:STANDARD
BEGIN:DAYLIGHT
TZOFFSETFROM:-0500
TZOFFSETTO:-0400
TZNAME:EDT
DTSTART:20250309T070000
END:DAYLIGHT
BEGIN:STANDARD
TZOFFSETFROM:-0400
TZOFFSETTO:-0500
TZNAME:EST
DTSTART:20251102T060000
END:STANDARD
END:VTIMEZONE
BEGIN:VEVENT
DTSTART;TZID=America/New_York:20240616T110000
DTEND;TZID=America/New_York:20240616T140000
DTSTAMP:20260422T194238
CREATED:20240513T145522Z
LAST-MODIFIED:20240513T145853Z
UID:10833-1718535600-1718546400@lighthousemuseum.org
SUMMARY:Celebrate Father's Day with a Lighthouse Boat Tour Circumnavigating Staten Island!
DESCRIPTION:Kick off the National Lighthouse Museum’s 2024 Lighthouse Boat Tour Season and celebrate Father’s Day all at once with this exciting circumnavigation of Staten Island. The series will be narrated by Wade R. Goria. Wade is a National Lighthouse Museum historian\, author\, and former New York University professor. \nExplore fascinating and mysterious sites unfamiliar to most New Yorkers on this exciting boat ride\, one that circumnavigates Staten Island taking you past critical points of maritime interest: the historically rich Shooters\, Prall’s\, Isle of Meadows (the center of what was once the world’s largest garbage dump that now served as Fresh Kills Park representing NYC’s largest park)\, Hoffman and Swinburne Islands. \nOur journey up the Kill Van Kull\, and the Arthur Kill waterways\, over to Raritan Bay\, Princes’ Bay Staten Island’s southern shore around the Narrows contains much important history critical to NYC’s development and to its maritime life: Sailor’s Snug Harbor\, the Caddell’s Shipyard and Repair Facilities at Port Richmond\, Mariners Harbor\, Port Ivory\, Rossville\, the eerie site of the Ship’s Graveyard\, Tottenville\, Prince’s Bay and Seguine’s Point together with key New Jersey maritime\, commercial and industrial sites located along the Kill Van Kull\, the Arthur Kill and Newark Bay including: Bayonne\, Elizabeth\, Linden\, Carteret and historic Perth Amboy\, which\, overlooks the beautiful Raritan Bay. \nBridges under which our boat passes include the recently renovated Bayonne\, the restored Vertical Lift Railroad Bridge\, the all new Goethals Bridge\, the Outerbridge Crossing and the Verrazano Narrows. \nLighthouses described and seen on this exciting tour include: Robbin’s Reef\, Great Beds\, Prince’s Bay\, Staten Island’s Rear Range\, (site of the Old Orchard Shoals Lighthouse destroyed by Sandy in 2012)\, New Dorp\, Elm Tree Beacon and the Battery Weed Light of Fort Wadsworth. \nTickets are non-refundable. \nLighthouse Boat Tours commence rain or shine. \nThe boat leaves from the NYC Ferry-Fast Ferry Dock. The boat does not leave from the National Lighthouse Museum. 1 Bay Street is a large general area which includes the St. George Ferry Terminal and the Empire Outlets. The outdoor NYC Ferry-Fast Ferry Dock does not have its own address. Please call the museum for further information if needed. \nGet your tickets today!
URL:https://lighthousemuseum.org/event/celebrate-fathers-day-with-a-lighthouse-boat-tour-circumnavigating-staten-island/
LOCATION:NY
CATEGORIES:Boat Tours
ATTACH;FMTTYPE=image/jpeg:https://lighthousemuseum.org/wp-content/uploads/2024/05/LighthouseBoatTour2024WebEvent.jpg
END:VEVENT
END:VCALENDAR