BEGIN:VCALENDAR
VERSION:2.0
PRODID:-//National Lighthouse Museum - ECPv6.15.20//NONSGML v1.0//EN
CALSCALE:GREGORIAN
METHOD:PUBLISH
X-ORIGINAL-URL:https://lighthousemuseum.org
X-WR-CALDESC:Events for National Lighthouse Museum
REFRESH-INTERVAL;VALUE=DURATION:PT1H
X-Robots-Tag:noindex
X-PUBLISHED-TTL:PT1H
BEGIN:VTIMEZONE
TZID:America/New_York
BEGIN:DAYLIGHT
TZOFFSETFROM:-0500
TZOFFSETTO:-0400
TZNAME:EDT
DTSTART:20230312T070000
END:DAYLIGHT
BEGIN:STANDARD
TZOFFSETFROM:-0400
TZOFFSETTO:-0500
TZNAME:EST
DTSTART:20231105T060000
END:STANDARD
BEGIN:DAYLIGHT
TZOFFSETFROM:-0500
TZOFFSETTO:-0400
TZNAME:EDT
DTSTART:20240310T070000
END:DAYLIGHT
BEGIN:STANDARD
TZOFFSETFROM:-0400
TZOFFSETTO:-0500
TZNAME:EST
DTSTART:20241103T060000
END:STANDARD
BEGIN:DAYLIGHT
TZOFFSETFROM:-0500
TZOFFSETTO:-0400
TZNAME:EDT
DTSTART:20250309T070000
END:DAYLIGHT
BEGIN:STANDARD
TZOFFSETFROM:-0400
TZOFFSETTO:-0500
TZNAME:EST
DTSTART:20251102T060000
END:STANDARD
END:VTIMEZONE
BEGIN:VEVENT
DTSTART;TZID=America/New_York:20240310T140000
DTEND;TZID=America/New_York:20240310T150000
DTSTAMP:20260423T001714
CREATED:20240124T175105Z
LAST-MODIFIED:20240124T175316Z
UID:10740-1710079200-1710082800@lighthousemuseum.org
SUMMARY:Iron & Ice: The Full Tale of the Titanic Book Launch
DESCRIPTION:Talk & Book Signing with Author Kelly Skwarcan \nIron & Ice: The Full Tale of the Titanic is sure to captivate both those with no prior knowledge of the ship and long-time enthusiasts. Narrative in nature\, character-driven\, and tastefully detailed\, Iron & Ice is set apart by its exploration of previously-glossed-over topics and its fresh perspective on familiar ones. This book explores the Titanic’s “best-of” narratives\, divulges little-known facts\, and simplifies pedantic technicalities to render the iconic tale engaging and meaningful to the modern reader. \nWith Iron & Ice\, readers embark on a spellbinding journey that begins before the Titanic’s first sketches and ends over a century later in summer 2023. As one of the first books to connect the eerie parallels between OceanGate’s Titan submersible’s implosion and the Titanic disaster\, Iron & Ice forges new ground\, enthralling readers all the while. \nKelly Skwarcan is graduating with a Bachelor of Arts in Psychology from the University of Notre Dame this year with plans to pursue graduate degrees in performance\, and thereafter\, counseling psychology. She is looking forward to a career intertwining her long-time love of the Titanic with the psychology of performance in deep-ocean exploration and submergence expeditions. \nGet your tickets today!
URL:https://lighthousemuseum.org/event/iron-ice-the-full-tale-of-the-titanic-book-launch/
LOCATION:NY
ATTACH;FMTTYPE=image/jpeg:https://lighthousemuseum.org/wp-content/uploads/2024/01/TitanicWebGraphic.jpg
END:VEVENT
END:VCALENDAR