BEGIN:VCALENDAR
VERSION:2.0
PRODID:-//National Lighthouse Museum - ECPv6.15.20//NONSGML v1.0//EN
CALSCALE:GREGORIAN
METHOD:PUBLISH
X-WR-CALNAME:National Lighthouse Museum
X-ORIGINAL-URL:https://lighthousemuseum.org
X-WR-CALDESC:Events for National Lighthouse Museum
REFRESH-INTERVAL;VALUE=DURATION:PT1H
X-Robots-Tag:noindex
X-PUBLISHED-TTL:PT1H
BEGIN:VTIMEZONE
TZID:America/New_York
BEGIN:DAYLIGHT
TZOFFSETFROM:-0500
TZOFFSETTO:-0400
TZNAME:EDT
DTSTART:20230312T070000
END:DAYLIGHT
BEGIN:STANDARD
TZOFFSETFROM:-0400
TZOFFSETTO:-0500
TZNAME:EST
DTSTART:20231105T060000
END:STANDARD
BEGIN:DAYLIGHT
TZOFFSETFROM:-0500
TZOFFSETTO:-0400
TZNAME:EDT
DTSTART:20240310T070000
END:DAYLIGHT
BEGIN:STANDARD
TZOFFSETFROM:-0400
TZOFFSETTO:-0500
TZNAME:EST
DTSTART:20241103T060000
END:STANDARD
BEGIN:DAYLIGHT
TZOFFSETFROM:-0500
TZOFFSETTO:-0400
TZNAME:EDT
DTSTART:20250309T070000
END:DAYLIGHT
BEGIN:STANDARD
TZOFFSETFROM:-0400
TZOFFSETTO:-0500
TZNAME:EST
DTSTART:20251102T060000
END:STANDARD
END:VTIMEZONE
BEGIN:VEVENT
DTSTART;VALUE=DATE:20240204
DTEND;VALUE=DATE:20240304
DTSTAMP:20260423T015240
CREATED:20231125T114609Z
LAST-MODIFIED:20240108T165145Z
UID:10702-1707004800-1709510399@lighthousemuseum.org
SUMMARY:Through the Lens: New Images from the Progressive Visions Photo Club
DESCRIPTION:The National Lighthouse Museum\, a leading maritime sentinel cultural center\, and CP Unlimited\, a respected provider of supports for people with intellectual and developmental disabilities (I/DD)\, will present a new photo exhibition at the Museum as seen through the eyes of CP’s Progressive Visions Photo Club.  \n“Through the Lens”\, running through March 3\, 2024\, will feature around a dozen images of local monuments\, exteriors\, and permanent displays captured during excursions in late 2023. The Progressive Visions Photo Club is comprised of creative amateur photographers with I/DD who shoot and develop images\, alongside a love of photography and community engagement. \nEvent Details: Join local leaders\, Club photographers\, and officials for an exclusive welcome tour and breakfast on the morning of February 4\, celebrating the exhibition. Prints and souvenirs will be offered for sale during the public portion and permanently thereafter. Proceeds from purchases will support both The National Lighthouse Museum and CP Unlimited.
URL:https://lighthousemuseum.org/event/through-the-lens-new-images-from-the-progressive-visions-photo-club/
LOCATION:NY
CATEGORIES:In Person Event
ATTACH;FMTTYPE=image/jpeg:https://lighthousemuseum.org/wp-content/uploads/2023/11/CPUnlimitedWebGraphic-1.jpg
END:VEVENT
BEGIN:VEVENT
DTSTART;TZID=America/New_York:20240225T140000
DTEND;TZID=America/New_York:20240225T150000
DTSTAMP:20260423T015240
CREATED:20240108T171555Z
LAST-MODIFIED:20240201T174400Z
UID:10728-1708869600-1708873200@lighthousemuseum.org
SUMMARY:Sailing to Freedom: Recovering and Re-centering the Maritime Dimension of the Underground Railroad
DESCRIPTION:FREE Virtual Presentation\nBlack History Month Lecture \n\nListen to little-known stories of freedom-seeking by sea and the less-understood maritime side of the Underground Railroad.\nLearn how escapes were managed along the East Coast\, moving from the Carolinas\, Virginia\, and Maryland to safe harbor in northern cities such as Philadelphia\, New York\, New Bedford\, and Boston.\nExpands your understanding of how freedom was achieved by sea and what this journey looked like for untold numbers of African Americans. With few exceptions\, successful escapes from enslavement in the Deep South were achieved not overland\, but by water.\n\nDr. Timothy Walker (Hiram College\, 1986)\, Professor of History at the University of Massachusetts Dartmouth\, is a scholar of maritime history\, colonial overseas expansion\, and trans-oceanic slave trading. \nReserve Your Spot Today!
URL:https://lighthousemuseum.org/event/sailing-to-freedom-recovering-and-re-centering-the-maritime-dimension-of-the-underground-railroad/
LOCATION:NY
ATTACH;FMTTYPE=image/jpeg:https://lighthousemuseum.org/wp-content/uploads/2024/01/WalkerWebGraphic.jpg
END:VEVENT
END:VCALENDAR