BEGIN:VCALENDAR
VERSION:2.0
PRODID:-//National Lighthouse Museum - ECPv6.15.20//NONSGML v1.0//EN
CALSCALE:GREGORIAN
METHOD:PUBLISH
X-ORIGINAL-URL:https://lighthousemuseum.org
X-WR-CALDESC:Events for National Lighthouse Museum
REFRESH-INTERVAL;VALUE=DURATION:PT1H
X-Robots-Tag:noindex
X-PUBLISHED-TTL:PT1H
BEGIN:VTIMEZONE
TZID:America/New_York
BEGIN:DAYLIGHT
TZOFFSETFROM:-0500
TZOFFSETTO:-0400
TZNAME:EDT
DTSTART:20220313T070000
END:DAYLIGHT
BEGIN:STANDARD
TZOFFSETFROM:-0400
TZOFFSETTO:-0500
TZNAME:EST
DTSTART:20221106T060000
END:STANDARD
BEGIN:DAYLIGHT
TZOFFSETFROM:-0500
TZOFFSETTO:-0400
TZNAME:EDT
DTSTART:20230312T070000
END:DAYLIGHT
BEGIN:STANDARD
TZOFFSETFROM:-0400
TZOFFSETTO:-0500
TZNAME:EST
DTSTART:20231105T060000
END:STANDARD
BEGIN:DAYLIGHT
TZOFFSETFROM:-0500
TZOFFSETTO:-0400
TZNAME:EDT
DTSTART:20240310T070000
END:DAYLIGHT
BEGIN:STANDARD
TZOFFSETFROM:-0400
TZOFFSETTO:-0500
TZNAME:EST
DTSTART:20241103T060000
END:STANDARD
END:VTIMEZONE
BEGIN:VEVENT
DTSTART;TZID=America/New_York:20231126T110000
DTEND;TZID=America/New_York:20231126T160000
DTSTAMP:20260423T065949
CREATED:20230121T002347Z
LAST-MODIFIED:20231018T193250Z
UID:7218-1700996400-1701014400@lighthousemuseum.org
SUMMARY:Museum Store Sunday - Holiday Market
DESCRIPTION:Join us for Museum Store Sunday. We will be having a Holiday Market\, hot chocolate and refreshments\, and a visit from Santa!
URL:https://lighthousemuseum.org/event/museum-sunday-holiday-market/
LOCATION:NY
CATEGORIES:In Person Event
ATTACH;FMTTYPE=image/jpeg:https://lighthousemuseum.org/wp-content/uploads/2023/01/2023MSS-scaled.jpg
END:VEVENT
BEGIN:VEVENT
DTSTART;TZID=America/New_York:20231126T110000
DTEND;TZID=America/New_York:20231126T160000
DTSTAMP:20260423T065949
CREATED:20231113T215635Z
LAST-MODIFIED:20231113T215906Z
UID:10624-1700996400-1701014400@lighthousemuseum.org
SUMMARY:Tracy Blom Book Reading & Kids Craft
DESCRIPTION:Join Tracy for storytimes at 12pm and 2pm. A lighthouse-themed\, upcycled craft is available for kids all day!
URL:https://lighthousemuseum.org/event/tracy-blom-book-reading-kids-craft/
LOCATION:NY
CATEGORIES:In Person Event
ATTACH;FMTTYPE=image/jpeg:https://lighthousemuseum.org/wp-content/uploads/2023/11/TracyBlomWebGraphic-1.jpg
END:VEVENT
END:VCALENDAR