BEGIN:VCALENDAR
VERSION:2.0
PRODID:-//National Lighthouse Museum - ECPv6.15.20//NONSGML v1.0//EN
CALSCALE:GREGORIAN
METHOD:PUBLISH
X-ORIGINAL-URL:https://lighthousemuseum.org
X-WR-CALDESC:Events for National Lighthouse Museum
REFRESH-INTERVAL;VALUE=DURATION:PT1H
X-Robots-Tag:noindex
X-PUBLISHED-TTL:PT1H
BEGIN:VTIMEZONE
TZID:America/New_York
BEGIN:DAYLIGHT
TZOFFSETFROM:-0500
TZOFFSETTO:-0400
TZNAME:EDT
DTSTART:20220313T070000
END:DAYLIGHT
BEGIN:STANDARD
TZOFFSETFROM:-0400
TZOFFSETTO:-0500
TZNAME:EST
DTSTART:20221106T060000
END:STANDARD
BEGIN:DAYLIGHT
TZOFFSETFROM:-0500
TZOFFSETTO:-0400
TZNAME:EDT
DTSTART:20230312T070000
END:DAYLIGHT
BEGIN:STANDARD
TZOFFSETFROM:-0400
TZOFFSETTO:-0500
TZNAME:EST
DTSTART:20231105T060000
END:STANDARD
BEGIN:DAYLIGHT
TZOFFSETFROM:-0500
TZOFFSETTO:-0400
TZNAME:EDT
DTSTART:20240310T070000
END:DAYLIGHT
BEGIN:STANDARD
TZOFFSETFROM:-0400
TZOFFSETTO:-0500
TZNAME:EST
DTSTART:20241103T060000
END:STANDARD
END:VTIMEZONE
BEGIN:VEVENT
DTSTART;VALUE=DATE:20231020
DTEND;VALUE=DATE:20231023
DTSTAMP:20260423T082345
CREATED:20231018T135115Z
LAST-MODIFIED:20231018T135212Z
UID:9820-1697760000-1698019199@lighthousemuseum.org
SUMMARY:Open House New York Free Weekend
DESCRIPTION:Welcome to our largest OHNY Weekend lineup ever. All 100% free! The majority of Weekend experiences are Open Access—no tickets required. Stop by the National Lighthouse Museum for FREE! \nLearn more at https://ohny.org/
URL:https://lighthousemuseum.org/event/open-house-new-york-free-weekend/
LOCATION:National Lighthouse Museum\, 200 The Promenade at Lighthouse Point\, Staten Island\, NY\, 10301
CATEGORIES:In Person Event
ATTACH;FMTTYPE=image/png:https://lighthousemuseum.org/wp-content/uploads/2023/10/OHNY.png
END:VEVENT
END:VCALENDAR