BEGIN:VCALENDAR
VERSION:2.0
PRODID:-//National Lighthouse Museum - ECPv6.15.20//NONSGML v1.0//EN
CALSCALE:GREGORIAN
METHOD:PUBLISH
X-ORIGINAL-URL:https://lighthousemuseum.org
X-WR-CALDESC:Events for National Lighthouse Museum
REFRESH-INTERVAL;VALUE=DURATION:PT1H
X-Robots-Tag:noindex
X-PUBLISHED-TTL:PT1H
BEGIN:VTIMEZONE
TZID:America/New_York
BEGIN:DAYLIGHT
TZOFFSETFROM:-0500
TZOFFSETTO:-0400
TZNAME:EDT
DTSTART:20220313T070000
END:DAYLIGHT
BEGIN:STANDARD
TZOFFSETFROM:-0400
TZOFFSETTO:-0500
TZNAME:EST
DTSTART:20221106T060000
END:STANDARD
BEGIN:DAYLIGHT
TZOFFSETFROM:-0500
TZOFFSETTO:-0400
TZNAME:EDT
DTSTART:20230312T070000
END:DAYLIGHT
BEGIN:STANDARD
TZOFFSETFROM:-0400
TZOFFSETTO:-0500
TZNAME:EST
DTSTART:20231105T060000
END:STANDARD
BEGIN:DAYLIGHT
TZOFFSETFROM:-0500
TZOFFSETTO:-0400
TZNAME:EDT
DTSTART:20240310T070000
END:DAYLIGHT
BEGIN:STANDARD
TZOFFSETFROM:-0400
TZOFFSETTO:-0500
TZNAME:EST
DTSTART:20241103T060000
END:STANDARD
END:VTIMEZONE
BEGIN:VEVENT
DTSTART;TZID=America/New_York:20230826T183000
DTEND;TZID=America/New_York:20230826T223000
DTSTAMP:20260423T114112
CREATED:20230808T172715Z
LAST-MODIFIED:20230808T173319Z
UID:7548-1693074600-1693089000@lighthousemuseum.org
SUMMARY:National Lighthouse Museum at FerryHawks
DESCRIPTION:Come out with friends and family for National Lighthouse Museum Night and postgame fireworks! We are having an NYPD v FDNY charity softball game and then will have the FerryHawks game right after! The NYPD v FDNY game starts at 3 PM and the FerryHawks game starts at 6:30 and will have fireworks postgame around 9:15 – 9:30 PM. Tickets are $17 and $3 from every ticket goes back to the National Lighthouse Museum. You can also purchase a $12 meal voucher that includes a choice of a Nathan’s hot dog or chicken tenders\, chips\, and a soft drink or water! We hope to see you at the game! \nPURCHASE TICKETS
URL:https://lighthousemuseum.org/event/national-lighthouse-museum-at-ferryhawks/
LOCATION:Staten Island University Hospital Community Park\, 75 Richmond Terrace\, Staten Island\, NY\, 10301\, United States
ATTACH;FMTTYPE=image/jpeg:https://lighthousemuseum.org/wp-content/uploads/2023/08/FerryHawksWebsiteEvent.jpg
END:VEVENT
END:VCALENDAR