BEGIN:VCALENDAR
VERSION:2.0
PRODID:-//National Lighthouse Museum - ECPv6.15.20//NONSGML v1.0//EN
CALSCALE:GREGORIAN
METHOD:PUBLISH
X-ORIGINAL-URL:https://lighthousemuseum.org
X-WR-CALDESC:Events for National Lighthouse Museum
REFRESH-INTERVAL;VALUE=DURATION:PT1H
X-Robots-Tag:noindex
X-PUBLISHED-TTL:PT1H
BEGIN:VTIMEZONE
TZID:America/New_York
BEGIN:DAYLIGHT
TZOFFSETFROM:-0500
TZOFFSETTO:-0400
TZNAME:EDT
DTSTART:20220313T070000
END:DAYLIGHT
BEGIN:STANDARD
TZOFFSETFROM:-0400
TZOFFSETTO:-0500
TZNAME:EST
DTSTART:20221106T060000
END:STANDARD
BEGIN:DAYLIGHT
TZOFFSETFROM:-0500
TZOFFSETTO:-0400
TZNAME:EDT
DTSTART:20230312T070000
END:DAYLIGHT
BEGIN:STANDARD
TZOFFSETFROM:-0400
TZOFFSETTO:-0500
TZNAME:EST
DTSTART:20231105T060000
END:STANDARD
BEGIN:DAYLIGHT
TZOFFSETFROM:-0500
TZOFFSETTO:-0400
TZNAME:EDT
DTSTART:20240310T070000
END:DAYLIGHT
BEGIN:STANDARD
TZOFFSETFROM:-0400
TZOFFSETTO:-0500
TZNAME:EST
DTSTART:20241103T060000
END:STANDARD
END:VTIMEZONE
BEGIN:VEVENT
DTSTART;TZID=America/New_York:20230805T140000
DTEND;TZID=America/New_York:20230805T150000
DTSTAMP:20260423T114121
CREATED:20230121T001702Z
LAST-MODIFIED:20230721T155057Z
UID:7210-1691244000-1691247600@lighthousemuseum.org
SUMMARY:Lighthouse Weekend Lecture-Lilac’s Museum Director Mary Habstrit
DESCRIPTION:Lilac’s Museum Director Mary Habstritt is the featured speaker and will look back at Lilac’s 90 years from her launch in 1933 through today. Cynthia Burmeister will share her story of the christening of the last Ambrose Lightship WLV-613. Bill Burmeister will talk about Kukui in the South Pacific in 1960. Free Admission! \nRESERVE YOUR FREE TICKET
URL:https://lighthousemuseum.org/event/lighthouse-weekend-lecture/
LOCATION:National Lighthouse Museum\, 200 The Promenade at Lighthouse Point\, Staten Island\, NY\, 10301
CATEGORIES:Lecture
ATTACH;FMTTYPE=image/jpeg:https://lighthousemuseum.org/wp-content/uploads/2023/01/MaryHabstrittWebsite.jpg
END:VEVENT
END:VCALENDAR