BEGIN:VCALENDAR
VERSION:2.0
PRODID:-//National Lighthouse Museum - ECPv6.15.20//NONSGML v1.0//EN
CALSCALE:GREGORIAN
METHOD:PUBLISH
X-ORIGINAL-URL:https://lighthousemuseum.org
X-WR-CALDESC:Events for National Lighthouse Museum
REFRESH-INTERVAL;VALUE=DURATION:PT1H
X-Robots-Tag:noindex
X-PUBLISHED-TTL:PT1H
BEGIN:VTIMEZONE
TZID:America/New_York
BEGIN:DAYLIGHT
TZOFFSETFROM:-0500
TZOFFSETTO:-0400
TZNAME:EDT
DTSTART:20220313T070000
END:DAYLIGHT
BEGIN:STANDARD
TZOFFSETFROM:-0400
TZOFFSETTO:-0500
TZNAME:EST
DTSTART:20221106T060000
END:STANDARD
BEGIN:DAYLIGHT
TZOFFSETFROM:-0500
TZOFFSETTO:-0400
TZNAME:EDT
DTSTART:20230312T070000
END:DAYLIGHT
BEGIN:STANDARD
TZOFFSETFROM:-0400
TZOFFSETTO:-0500
TZNAME:EST
DTSTART:20231105T060000
END:STANDARD
BEGIN:DAYLIGHT
TZOFFSETFROM:-0500
TZOFFSETTO:-0400
TZNAME:EDT
DTSTART:20240310T070000
END:DAYLIGHT
BEGIN:STANDARD
TZOFFSETFROM:-0400
TZOFFSETTO:-0500
TZNAME:EST
DTSTART:20241103T060000
END:STANDARD
END:VTIMEZONE
BEGIN:VEVENT
DTSTART;TZID=America/New_York:20230804T173000
DTEND;TZID=America/New_York:20230804T173000
DTSTAMP:20260423T131013
CREATED:20230603T135528Z
LAST-MODIFIED:20230603T135640Z
UID:7471-1691170200-1691170200@lighthousemuseum.org
SUMMARY:13th Annual Light Keeper's Gala
DESCRIPTION:13th Annual Light Keeper’s Gala\nFriday\, August 4\, 2023 \n5:30pm Doors Open\nParking not permitted on Museum Plaza\n(*See Parking Information) \n6:00pm Awards & Champagne Reception\nNational Lighthouse Museum \n7:00pm Board the Cornucopia Destiny\nPier One/Museum Site \n7:30pm Dinner Cruise Leaves Port\nSpeakeasy\, Buffet Dinner\, and Music\nby Joan Caddell & The Midnight Choir\nRaffles\, Silent and Live Auction\, Casino Games \n1920s Attire Optional \nHONORING:\nWind In Our Sails Award\nRobert De Falco\, Owner / Broker\nRobert De Falco Realty \nLight Keeper’s Award\nLILAC Preservation Project \nNational Maritime History Preservation Award\nNational Maritime Historical Society \nCommunity Lamplighter Award\nNorthfield Bank \nCommunity Lamplighter Award\nPeter Botros\nChef / Founding Partner\nBread & Butter Hospitality Family of Restaurants \n* PARKING: Empire Outlets: 55b Richmond Terrace\, Staten Island\, NY 10301\, entrance to parking lot is on Wall St. off Richmond Terrace St. George Ferry Terminal: 12 Staten\nIsland Ferry\, Staten Island\, NY 10301\, entrance to Ferry Terminal Munimeter Parking\nis off Richmond Terrace Along Bay St.: 2 hour metered parking \n$10\,000 Event Sponsor: Table of 10 at Gala\, full page\, color ad in Journal\, your company name and logo displayed prominently at Gala on banner \n$5\,000 Dinner Sponsor: 8 Gala tickets\, full page color ad in Journal\, company logo on centerpieces \n$2\,500 Speakeasy Sponsor: 2 Gala tickets\, half page color ad in Journal\, company signage \n$1\,500 Museum Awards Reception: Half page journal ad\, company logo displayed on banner at reception \n$1\,000 Bar Sponsor: Sign on bar with company name and logo\, quarter page color ad in Journal \nJournal Sponsor: $1\,000 Full Page Ad – 3.75” W x 10.5” H \nJournal Sponsor: $500 Half Page Ad – 3.75” W x 5” H \nJournal Sponsor: $250 Quarter Page/Business Card Ad – 3.75” W x 2.25”H \n$100 Gala Supporter\nCLICK HERE TO PURCHASE TICKETS FOR THE EVENT OR TO BECOME A SPONSOR
URL:https://lighthousemuseum.org/event/13th-annual-light-keepers-gala-2/
LOCATION:NY
ATTACH;FMTTYPE=image/jpeg:https://lighthousemuseum.org/wp-content/uploads/2023/06/2023GalaWebGraphic.jpg
END:VEVENT
END:VCALENDAR