BEGIN:VCALENDAR
VERSION:2.0
PRODID:-//National Lighthouse Museum - ECPv6.15.20//NONSGML v1.0//EN
CALSCALE:GREGORIAN
METHOD:PUBLISH
X-WR-CALNAME:National Lighthouse Museum
X-ORIGINAL-URL:https://lighthousemuseum.org
X-WR-CALDESC:Events for National Lighthouse Museum
REFRESH-INTERVAL;VALUE=DURATION:PT1H
X-Robots-Tag:noindex
X-PUBLISHED-TTL:PT1H
BEGIN:VTIMEZONE
TZID:America/New_York
BEGIN:DAYLIGHT
TZOFFSETFROM:-0500
TZOFFSETTO:-0400
TZNAME:EDT
DTSTART:20220313T070000
END:DAYLIGHT
BEGIN:STANDARD
TZOFFSETFROM:-0400
TZOFFSETTO:-0500
TZNAME:EST
DTSTART:20221106T060000
END:STANDARD
BEGIN:DAYLIGHT
TZOFFSETFROM:-0500
TZOFFSETTO:-0400
TZNAME:EDT
DTSTART:20230312T070000
END:DAYLIGHT
BEGIN:STANDARD
TZOFFSETFROM:-0400
TZOFFSETTO:-0500
TZNAME:EST
DTSTART:20231105T060000
END:STANDARD
BEGIN:DAYLIGHT
TZOFFSETFROM:-0500
TZOFFSETTO:-0400
TZNAME:EDT
DTSTART:20240310T070000
END:DAYLIGHT
BEGIN:STANDARD
TZOFFSETFROM:-0400
TZOFFSETTO:-0500
TZNAME:EST
DTSTART:20241103T060000
END:STANDARD
END:VTIMEZONE
BEGIN:VEVENT
DTSTART;TZID=America/New_York:20230617T160000
DTEND;TZID=America/New_York:20230617T173000
DTSTAMP:20260423T204516
CREATED:20230609T130047Z
LAST-MODIFIED:20230609T162030Z
UID:7475-1687017600-1687023000@lighthousemuseum.org
SUMMARY:Offshore Wind Short Film Screening with Worldview Films & Vineyard Offshore
DESCRIPTION:Offshore Wind Short Film Screening with Worldview Films & Vineyard Offshore \nSaturday\, June 17 \nTime: 4:00 P.M. – 5:30 P.M. \n1 hour 30 minutes \nHave you ever wondered what an offshore wind farm looks like or how it’s built? On Saturday June 17th join us for a film screening and discussion at the National Lighthouse Museum at 4 P.M. with WorldView Films. We will screen a short film that tells the story of the offshore wind industry in the U.S and host a discussion about how offshore wind is shaping up on Staten Island. \nLocation: The National Lighthouse Museum\, 200 The Promenade at Lighthouse Point\, Staten Island\, NY 10301 \nAudience: All ages \nAccess: \n– Municipal Parking Lot St. George at 55 Central Avenue\, Staten Island\, NY 10301 (adjacent to St. George Library which is a 6 minute walk to the museum) \n– Bus routes: S74\, S76\, S78\, S86\, and S90 \nPURCHASE TICKETS
URL:https://lighthousemuseum.org/event/offshore-wind-short-film-screening-with-worldview-films-vineyard-offshore/
LOCATION:NY
ATTACH;FMTTYPE=image/jpeg:https://lighthousemuseum.org/wp-content/uploads/2023/06/https-__cdn.evbuc_.com_images_530102339_1144526109833_1_original.jpg
END:VEVENT
END:VCALENDAR