BEGIN:VCALENDAR
VERSION:2.0
PRODID:-//National Lighthouse Museum - ECPv6.15.20//NONSGML v1.0//EN
CALSCALE:GREGORIAN
METHOD:PUBLISH
X-ORIGINAL-URL:https://lighthousemuseum.org
X-WR-CALDESC:Events for National Lighthouse Museum
REFRESH-INTERVAL;VALUE=DURATION:PT1H
X-Robots-Tag:noindex
X-PUBLISHED-TTL:PT1H
BEGIN:VTIMEZONE
TZID:America/New_York
BEGIN:DAYLIGHT
TZOFFSETFROM:-0500
TZOFFSETTO:-0400
TZNAME:EDT
DTSTART:20220313T070000
END:DAYLIGHT
BEGIN:STANDARD
TZOFFSETFROM:-0400
TZOFFSETTO:-0500
TZNAME:EST
DTSTART:20221106T060000
END:STANDARD
BEGIN:DAYLIGHT
TZOFFSETFROM:-0500
TZOFFSETTO:-0400
TZNAME:EDT
DTSTART:20230312T070000
END:DAYLIGHT
BEGIN:STANDARD
TZOFFSETFROM:-0400
TZOFFSETTO:-0500
TZNAME:EST
DTSTART:20231105T060000
END:STANDARD
BEGIN:DAYLIGHT
TZOFFSETFROM:-0500
TZOFFSETTO:-0400
TZNAME:EDT
DTSTART:20240310T070000
END:DAYLIGHT
BEGIN:STANDARD
TZOFFSETFROM:-0400
TZOFFSETTO:-0500
TZNAME:EST
DTSTART:20241103T060000
END:STANDARD
END:VTIMEZONE
BEGIN:VEVENT
DTSTART;TZID=America/New_York:20230226T150000
DTEND;TZID=America/New_York:20230226T150000
DTSTAMP:20260424T030613
CREATED:20230130T182827Z
LAST-MODIFIED:20230131T150252Z
UID:7238-1677423600-1677423600@lighthousemuseum.org
SUMMARY:Encore Opening of African American Exhibit
DESCRIPTION:Encore Opening of African American Exhibit\nLighting the Way: African American Lightkeepers in Civil War America
URL:https://lighthousemuseum.org/event/encore-opening-of-african-american-exhibit/
LOCATION:NY
CATEGORIES:In Person Event
ATTACH;FMTTYPE=image/jpeg:https://lighthousemuseum.org/wp-content/uploads/2023/01/AfricanAmericanExhibitWebsiteEvent-1.jpg
END:VEVENT
BEGIN:VEVENT
DTSTART;TZID=America/New_York:20230226T160000
DTEND;TZID=America/New_York:20230226T160000
DTSTAMP:20260424T030613
CREATED:20230130T183555Z
LAST-MODIFIED:20230131T150024Z
UID:7241-1677427200-1677427200@lighthousemuseum.org
SUMMARY:Willis Hodges Lecture with Stephanie Ceballos\, Education Coordinator
DESCRIPTION:Willis Hodges Lecture\nwith Stephanie Ceballos\, Education Coordinator\nWillis Augustus Hodges served as the first African American lighthouse keeper from May 10 to July 26\, 1870. \nPURCHASE TICKETS
URL:https://lighthousemuseum.org/event/willis-hodges-lecture-with-stephanie-ceballos-education-coordinator/
LOCATION:NY
CATEGORIES:In Person Event
ATTACH;FMTTYPE=image/jpeg:https://lighthousemuseum.org/wp-content/uploads/2023/01/WillisLectureWebsiteEvent.jpg
END:VEVENT
END:VCALENDAR