BEGIN:VCALENDAR
VERSION:2.0
PRODID:-//National Lighthouse Museum - ECPv6.15.20//NONSGML v1.0//EN
CALSCALE:GREGORIAN
METHOD:PUBLISH
X-ORIGINAL-URL:https://lighthousemuseum.org
X-WR-CALDESC:Events for National Lighthouse Museum
REFRESH-INTERVAL;VALUE=DURATION:PT1H
X-Robots-Tag:noindex
X-PUBLISHED-TTL:PT1H
BEGIN:VTIMEZONE
TZID:America/New_York
BEGIN:DAYLIGHT
TZOFFSETFROM:-0500
TZOFFSETTO:-0400
TZNAME:EDT
DTSTART:20210314T070000
END:DAYLIGHT
BEGIN:STANDARD
TZOFFSETFROM:-0400
TZOFFSETTO:-0500
TZNAME:EST
DTSTART:20211107T060000
END:STANDARD
BEGIN:DAYLIGHT
TZOFFSETFROM:-0500
TZOFFSETTO:-0400
TZNAME:EDT
DTSTART:20220313T070000
END:DAYLIGHT
BEGIN:STANDARD
TZOFFSETFROM:-0400
TZOFFSETTO:-0500
TZNAME:EST
DTSTART:20221106T060000
END:STANDARD
BEGIN:DAYLIGHT
TZOFFSETFROM:-0500
TZOFFSETTO:-0400
TZNAME:EDT
DTSTART:20230312T070000
END:DAYLIGHT
BEGIN:STANDARD
TZOFFSETFROM:-0400
TZOFFSETTO:-0500
TZNAME:EST
DTSTART:20231105T060000
END:STANDARD
END:VTIMEZONE
BEGIN:VEVENT
DTSTART;TZID=America/New_York:20221112T093000
DTEND;TZID=America/New_York:20221112T110000
DTSTAMP:20260424T073749
CREATED:20220913T194252Z
LAST-MODIFIED:20220914T131659Z
UID:6833-1668245400-1668250800@lighthousemuseum.org
SUMMARY:Brilliant Minds Fall Program Series - Advanced Design and Lightships! 
DESCRIPTION:This session builds on previous ideas of lighthouse height and placement to specific hazards of locations both ships and lighthouses face and focuses on problem solving. Projects may include model building or drafting focused on sealing with a specific challenge of weather\, geography\, or lighting. In the last week we will discuss lightships and build our own model. \nPURCHASE TICKETS
URL:https://lighthousemuseum.org/event/brilliant-minds-fall-program-series-advanced-design-and-lightships/
LOCATION:NY
CATEGORIES:In Person Event
ATTACH;FMTTYPE=image/jpeg:https://lighthousemuseum.org/wp-content/uploads/2022/09/BrialliantMindsWeb.jpg
END:VEVENT
BEGIN:VEVENT
DTSTART;TZID=America/New_York:20221112T110000
DTEND;TZID=America/New_York:20221112T150000
DTSTAMP:20260424T073749
CREATED:20220812T170121Z
LAST-MODIFIED:20221021T031508Z
UID:6713-1668250800-1668265200@lighthousemuseum.org
SUMMARY:Model Ships Club of New Jersey Display of working examples of the construction of ships
DESCRIPTION:Saturday\, November 12\, 2022\n11AM-3PM\nModel Ships Club of New Jersey Display of working examples of the construction of ships
URL:https://lighthousemuseum.org/event/model-ships-club-of-new-jersey-display-of-working-examples-of-the-construction-of-ships/
LOCATION:NY
ATTACH;FMTTYPE=image/jpeg:https://lighthousemuseum.org/wp-content/uploads/2022/08/NovemberShipWEB.jpg
END:VEVENT
END:VCALENDAR