BEGIN:VCALENDAR
VERSION:2.0
PRODID:-//National Lighthouse Museum - ECPv6.15.20//NONSGML v1.0//EN
CALSCALE:GREGORIAN
METHOD:PUBLISH
X-ORIGINAL-URL:https://lighthousemuseum.org
X-WR-CALDESC:Events for National Lighthouse Museum
REFRESH-INTERVAL;VALUE=DURATION:PT1H
X-Robots-Tag:noindex
X-PUBLISHED-TTL:PT1H
BEGIN:VTIMEZONE
TZID:America/New_York
BEGIN:DAYLIGHT
TZOFFSETFROM:-0500
TZOFFSETTO:-0400
TZNAME:EDT
DTSTART:20210314T070000
END:DAYLIGHT
BEGIN:STANDARD
TZOFFSETFROM:-0400
TZOFFSETTO:-0500
TZNAME:EST
DTSTART:20211107T060000
END:STANDARD
BEGIN:DAYLIGHT
TZOFFSETFROM:-0500
TZOFFSETTO:-0400
TZNAME:EDT
DTSTART:20220313T070000
END:DAYLIGHT
BEGIN:STANDARD
TZOFFSETFROM:-0400
TZOFFSETTO:-0500
TZNAME:EST
DTSTART:20221106T060000
END:STANDARD
BEGIN:DAYLIGHT
TZOFFSETFROM:-0500
TZOFFSETTO:-0400
TZNAME:EDT
DTSTART:20230312T070000
END:DAYLIGHT
BEGIN:STANDARD
TZOFFSETFROM:-0400
TZOFFSETTO:-0500
TZNAME:EST
DTSTART:20231105T060000
END:STANDARD
END:VTIMEZONE
BEGIN:VEVENT
DTSTART;TZID=America/New_York:20221110T180000
DTEND;TZID=America/New_York:20221110T180000
DTSTAMP:20260424T073621
CREATED:20220812T165209Z
LAST-MODIFIED:20221102T100852Z
UID:6711-1668103200-1668103200@lighthousemuseum.org
SUMMARY:Port Newark and the Origins of Container Shipping by Angus Gillespie – Lecture and book signing
DESCRIPTION:Thursday\, November 10\, 2022 \n6PM \nContainer shipping is a vital part of the global economy. Goods from all around the world\, from vegetables to automobiles\, are placed in large metal containers which are transported across the ocean in ships\, then loaded onto tractor-trailers and railroad flatbeds. But when and where did this world-changing invention get started? This fascinating study traces the birth of containerization to Port Newark\, New Jersey\, in 1956 when trucker Malcom McLean thought of a brilliant new way to transport cargo. \nPURCHASE TICKETS
URL:https://lighthousemuseum.org/event/port-newark-and-the-origins-of-container-shipping-by-angus-gillespie-lecture-and-book-signing/
LOCATION:NY
ATTACH;FMTTYPE=image/jpeg:https://lighthousemuseum.org/wp-content/uploads/2022/08/PortNewarkWeb.jpg
END:VEVENT
END:VCALENDAR