BEGIN:VCALENDAR
VERSION:2.0
PRODID:-//National Lighthouse Museum - ECPv6.15.20//NONSGML v1.0//EN
CALSCALE:GREGORIAN
METHOD:PUBLISH
X-ORIGINAL-URL:https://lighthousemuseum.org
X-WR-CALDESC:Events for National Lighthouse Museum
REFRESH-INTERVAL;VALUE=DURATION:PT1H
X-Robots-Tag:noindex
X-PUBLISHED-TTL:PT1H
BEGIN:VTIMEZONE
TZID:America/New_York
BEGIN:DAYLIGHT
TZOFFSETFROM:-0500
TZOFFSETTO:-0400
TZNAME:EDT
DTSTART:20210314T070000
END:DAYLIGHT
BEGIN:STANDARD
TZOFFSETFROM:-0400
TZOFFSETTO:-0500
TZNAME:EST
DTSTART:20211107T060000
END:STANDARD
BEGIN:DAYLIGHT
TZOFFSETFROM:-0500
TZOFFSETTO:-0400
TZNAME:EDT
DTSTART:20220313T070000
END:DAYLIGHT
BEGIN:STANDARD
TZOFFSETFROM:-0400
TZOFFSETTO:-0500
TZNAME:EST
DTSTART:20221106T060000
END:STANDARD
BEGIN:DAYLIGHT
TZOFFSETFROM:-0500
TZOFFSETTO:-0400
TZNAME:EDT
DTSTART:20230312T070000
END:DAYLIGHT
BEGIN:STANDARD
TZOFFSETFROM:-0400
TZOFFSETTO:-0500
TZNAME:EST
DTSTART:20231105T060000
END:STANDARD
END:VTIMEZONE
BEGIN:VEVENT
DTSTART;TZID=America/New_York:20221020T180000
DTEND;TZID=America/New_York:20221020T180000
DTSTAMP:20260424T090532
CREATED:20211221T021151Z
LAST-MODIFIED:20221012T141321Z
UID:6126-1666288800-1666288800@lighthousemuseum.org
SUMMARY:Soul of the Hurricane: The Perfect Storm and An Accidental Sailor  Program and Book Signing with Author Nelson Simon
DESCRIPTION:Thirty years ago\, Nelson Simon accepted an invitation to help sail a ship from Brooklyn to Bermuda\, despite having little sailing experience. The ship ended up in what would later become known as the “Perfect Storm.” The crew managed to hold out long enough to be rescued by the US Coast Guard. \nPURCHASE TICKETS
URL:https://lighthousemuseum.org/event/soul-of-the-hurricane-the-perfect-storm-and-an-accidental-sailor-program-and-book-signing-with-author-nelson-simon/
LOCATION:NY
CATEGORIES:Lecture
ATTACH;FMTTYPE=image/jpeg:https://lighthousemuseum.org/wp-content/uploads/2021/12/NelsonSimonWebGraphic.jpg
END:VEVENT
END:VCALENDAR