BEGIN:VCALENDAR
VERSION:2.0
PRODID:-//National Lighthouse Museum - ECPv6.15.20//NONSGML v1.0//EN
CALSCALE:GREGORIAN
METHOD:PUBLISH
X-WR-CALNAME:National Lighthouse Museum
X-ORIGINAL-URL:https://lighthousemuseum.org
X-WR-CALDESC:Events for National Lighthouse Museum
REFRESH-INTERVAL;VALUE=DURATION:PT1H
X-Robots-Tag:noindex
X-PUBLISHED-TTL:PT1H
BEGIN:VTIMEZONE
TZID:America/New_York
BEGIN:DAYLIGHT
TZOFFSETFROM:-0500
TZOFFSETTO:-0400
TZNAME:EDT
DTSTART:20210314T070000
END:DAYLIGHT
BEGIN:STANDARD
TZOFFSETFROM:-0400
TZOFFSETTO:-0500
TZNAME:EST
DTSTART:20211107T060000
END:STANDARD
BEGIN:DAYLIGHT
TZOFFSETFROM:-0500
TZOFFSETTO:-0400
TZNAME:EDT
DTSTART:20220313T070000
END:DAYLIGHT
BEGIN:STANDARD
TZOFFSETFROM:-0400
TZOFFSETTO:-0500
TZNAME:EST
DTSTART:20221106T060000
END:STANDARD
BEGIN:DAYLIGHT
TZOFFSETFROM:-0500
TZOFFSETTO:-0400
TZNAME:EDT
DTSTART:20230312T070000
END:DAYLIGHT
BEGIN:STANDARD
TZOFFSETFROM:-0400
TZOFFSETTO:-0500
TZNAME:EST
DTSTART:20231105T060000
END:STANDARD
END:VTIMEZONE
BEGIN:VEVENT
DTSTART;TZID=America/New_York:20221016T120000
DTEND;TZID=America/New_York:20221016T180000
DTSTAMP:20260424T090419
CREATED:20220824T132813Z
LAST-MODIFIED:20220930T223322Z
UID:6734-1665921600-1665943200@lighthousemuseum.org
SUMMARY:6th Annual Lighthouse Point Fest
DESCRIPTION:6th Annual Lighthouse Point Fest \nSunday\, October 16 \n12-6pm \nNATIONAL LIGHTHOUSE MUSEUM \n200 The Promenade at Lighthouse Point \nStaten Island\, NY 10301 \n$3.00 Suggested Donation \nEntertainment • Arts and Crafts • Museum Admission \nSea Dart and Miller’s Tug Boat with Water Display by FDNY Harvey Fireboat. \nCompete in the Legendary Soup Contest \nHedge Your Bets at the Ducks Race for $5.00 \nJoin Our Pirate School! \nShowtimes 1pm and 3pm \nChildren’s Activities • Face Painting • Food \nCharlie the Balloon Man \nSponsored by: \nNYC Department of Cultural Affairs \nCouncil Member Kamillah Hanks \nBentson & Company • ICC Commonwealth
URL:https://lighthousemuseum.org/event/6th-annual-lighthouse-point-fest/
LOCATION:NY
ATTACH;FMTTYPE=image/jpeg:https://lighthousemuseum.org/wp-content/uploads/2022/08/LighthousePointFest2022FB-Postponed.jpg
END:VEVENT
END:VCALENDAR