BEGIN:VCALENDAR
VERSION:2.0
PRODID:-//National Lighthouse Museum - ECPv6.15.20//NONSGML v1.0//EN
CALSCALE:GREGORIAN
METHOD:PUBLISH
X-WR-CALNAME:National Lighthouse Museum
X-ORIGINAL-URL:https://lighthousemuseum.org
X-WR-CALDESC:Events for National Lighthouse Museum
REFRESH-INTERVAL;VALUE=DURATION:PT1H
X-Robots-Tag:noindex
X-PUBLISHED-TTL:PT1H
BEGIN:VTIMEZONE
TZID:America/New_York
BEGIN:DAYLIGHT
TZOFFSETFROM:-0500
TZOFFSETTO:-0400
TZNAME:EDT
DTSTART:20210314T070000
END:DAYLIGHT
BEGIN:STANDARD
TZOFFSETFROM:-0400
TZOFFSETTO:-0500
TZNAME:EST
DTSTART:20211107T060000
END:STANDARD
BEGIN:DAYLIGHT
TZOFFSETFROM:-0500
TZOFFSETTO:-0400
TZNAME:EDT
DTSTART:20220313T070000
END:DAYLIGHT
BEGIN:STANDARD
TZOFFSETFROM:-0400
TZOFFSETTO:-0500
TZNAME:EST
DTSTART:20221106T060000
END:STANDARD
BEGIN:DAYLIGHT
TZOFFSETFROM:-0500
TZOFFSETTO:-0400
TZNAME:EDT
DTSTART:20230312T070000
END:DAYLIGHT
BEGIN:STANDARD
TZOFFSETFROM:-0400
TZOFFSETTO:-0500
TZNAME:EST
DTSTART:20231105T060000
END:STANDARD
END:VTIMEZONE
BEGIN:VEVENT
DTSTART;TZID=America/New_York:20220827T093000
DTEND;TZID=America/New_York:20220827T110000
DTSTAMP:20260424T123510
CREATED:20220705T192732Z
LAST-MODIFIED:20220705T192732Z
UID:6620-1661592600-1661598000@lighthousemuseum.org
SUMMARY:Brilliant Minds All Summer Long!: Design and Architecture:
DESCRIPTION:Brilliant Minds All Summer Long! \nThis program focuses on STEAM education (Science\, Technology\, Engineering\, Arts and Math).\nEvery morning will include not only history and STEAM explanations\, but also at least one hands on activity. \nEvery week programming runs Saturdays\, 9:30 am to 11:00 am.\nGeared for Parents/Caregivers and Third-Fifth Graders. \nAugust 27\, 2022\nDesign and Architecture: This session builds on previous ideas of\nlighthouse height and placement to specific hazards of locations both ships and lighthouses face and focuses on problem solving. Projects may include model building or drafting focused on sealing with a specific challenge of weather\, geography\, or lighting.\nhttps://fareharbor.com/embeds/book/lighthousemuseum/items/291840/availability/936926877/book/?full-items=yes&flow=452712 \n$15 for each adult with child per session/$75 for all sessions\n200 The Promenade at Lighthouse Point\, Staten Island\, NY 10301
URL:https://lighthousemuseum.org/event/brilliant-minds-all-summer-long-design-and-architecture/
LOCATION:NY
ATTACH;FMTTYPE=image/jpeg:https://lighthousemuseum.org/wp-content/uploads/2022/07/BrialliantMindsWeb.jpg
END:VEVENT
END:VCALENDAR