BEGIN:VCALENDAR
VERSION:2.0
PRODID:-//National Lighthouse Museum - ECPv6.15.20//NONSGML v1.0//EN
CALSCALE:GREGORIAN
METHOD:PUBLISH
X-ORIGINAL-URL:https://lighthousemuseum.org
X-WR-CALDESC:Events for National Lighthouse Museum
REFRESH-INTERVAL;VALUE=DURATION:PT1H
X-Robots-Tag:noindex
X-PUBLISHED-TTL:PT1H
BEGIN:VTIMEZONE
TZID:America/New_York
BEGIN:DAYLIGHT
TZOFFSETFROM:-0500
TZOFFSETTO:-0400
TZNAME:EDT
DTSTART:20210314T070000
END:DAYLIGHT
BEGIN:STANDARD
TZOFFSETFROM:-0400
TZOFFSETTO:-0500
TZNAME:EST
DTSTART:20211107T060000
END:STANDARD
BEGIN:DAYLIGHT
TZOFFSETFROM:-0500
TZOFFSETTO:-0400
TZNAME:EDT
DTSTART:20220313T070000
END:DAYLIGHT
BEGIN:STANDARD
TZOFFSETFROM:-0400
TZOFFSETTO:-0500
TZNAME:EST
DTSTART:20221106T060000
END:STANDARD
BEGIN:DAYLIGHT
TZOFFSETFROM:-0500
TZOFFSETTO:-0400
TZNAME:EDT
DTSTART:20230312T070000
END:DAYLIGHT
BEGIN:STANDARD
TZOFFSETFROM:-0400
TZOFFSETTO:-0500
TZNAME:EST
DTSTART:20231105T060000
END:STANDARD
END:VTIMEZONE
BEGIN:VEVENT
DTSTART;TZID=America/New_York:20220806T170000
DTEND;TZID=America/New_York:20220806T170000
DTSTAMP:20260424T155731
CREATED:20220623T134911Z
LAST-MODIFIED:20220623T134911Z
UID:6565-1659805200-1659805200@lighthousemuseum.org
SUMMARY:Swinging in the Moonlight - 12th Annual Light Keeper’s Gala
DESCRIPTION:Swinging in the Moonlight\n12th Annual Light Keeper’s Gala \nCelebrate the Big Band Sound of the 40s \nSaturday\, August 6\, 2022\n5pm Awards & Champagne Reception\nat National Lighthouse Museum\nPerformance by Ryan Kelly Berkowirtz \n6:30pm Board the Atlantis \n7pm Dinner Cruise Leaves Port \nCocktails\, Buffet Dinner and\nMusic by DJ Mateo\, Raffles\, Silent and Live Auction \n40s Attire Optional \nHonoring\nWind In Our Sails Award\nHonorable Debi Rose\nFormer NYC Council Member \nLight Keeper’s Award\nSally Snowman\nCurrent & Last Living Light Keeper of the Boston Light \nMaritime Historian Award\nBill Miller – Mr. Ocean Liner\nInternational authority on the subject of\nocean liners & cruise ships \nCommunity Lamplighter Award\nJeff and Denise Henick\nSTOP & STOR \nOn the Horizon…Beacon Award\nAlexandra Oxaal\nPresident\, NYS Society\,\n& Curator\, National Society\nChildren of the American Revolution \nPURCHASE TICKETS
URL:https://lighthousemuseum.org/event/swinging-in-the-moonlight-12th-annual-light-keepers-gala/
LOCATION:NY
CATEGORIES:In Person Event
ATTACH;FMTTYPE=image/jpeg:https://lighthousemuseum.org/wp-content/uploads/2022/06/GalaWeb.jpg
END:VEVENT
END:VCALENDAR