BEGIN:VCALENDAR
VERSION:2.0
PRODID:-//National Lighthouse Museum - ECPv6.15.20//NONSGML v1.0//EN
CALSCALE:GREGORIAN
METHOD:PUBLISH
X-WR-CALNAME:National Lighthouse Museum
X-ORIGINAL-URL:https://lighthousemuseum.org
X-WR-CALDESC:Events for National Lighthouse Museum
REFRESH-INTERVAL;VALUE=DURATION:PT1H
X-Robots-Tag:noindex
X-PUBLISHED-TTL:PT1H
BEGIN:VTIMEZONE
TZID:America/New_York
BEGIN:DAYLIGHT
TZOFFSETFROM:-0500
TZOFFSETTO:-0400
TZNAME:EDT
DTSTART:20210314T070000
END:DAYLIGHT
BEGIN:STANDARD
TZOFFSETFROM:-0400
TZOFFSETTO:-0500
TZNAME:EST
DTSTART:20211107T060000
END:STANDARD
BEGIN:DAYLIGHT
TZOFFSETFROM:-0500
TZOFFSETTO:-0400
TZNAME:EDT
DTSTART:20220313T070000
END:DAYLIGHT
BEGIN:STANDARD
TZOFFSETFROM:-0400
TZOFFSETTO:-0500
TZNAME:EST
DTSTART:20221106T060000
END:STANDARD
BEGIN:DAYLIGHT
TZOFFSETFROM:-0500
TZOFFSETTO:-0400
TZNAME:EDT
DTSTART:20230312T070000
END:DAYLIGHT
BEGIN:STANDARD
TZOFFSETFROM:-0400
TZOFFSETTO:-0500
TZNAME:EST
DTSTART:20231105T060000
END:STANDARD
END:VTIMEZONE
BEGIN:VEVENT
DTSTART;TZID=America/New_York:20220730T093000
DTEND;TZID=America/New_York:20220730T110000
DTSTAMP:20260424T173250
CREATED:20220705T182610Z
LAST-MODIFIED:20220705T191222Z
UID:6607-1659173400-1659178800@lighthousemuseum.org
SUMMARY:Brilliant Minds All Summer Long!: The Science Of Lighting The Night
DESCRIPTION:Brilliant Minds All Summer Long! \nThis program focuses on STEAM education (Science\, Technology\, Engineering\, Arts and Math).\nEvery morning will include not only history and STEAM explanations\, but also at least one hands on activity. \nEvery week programming runs Saturdays\, 9:30 am to 11:00 am.\nGeared for Parents/Caregivers and Third-Fifth Graders. \nJuly 30\, 2022\nThe science of lighting the night: We will play with light\, exploring original lighting methods\,\nFresnel lenses\, and lighthouse automation.  Projects may include solar marshmallow roasters\, bending light with prisms\, and experiments making light flash. \n$15 for each adult with child per session/$75 for all sessions\n200 The Promenade at Lighthouse Point\, Staten Island\, NY 10301 \nPURCHASE TICKETS
URL:https://lighthousemuseum.org/event/brilliant-minds-all-summer-long-the-science-of-lighting-the-night/
LOCATION:NY
ATTACH;FMTTYPE=image/jpeg:https://lighthousemuseum.org/wp-content/uploads/2022/07/BrialliantMindsWeb.jpg
END:VEVENT
END:VCALENDAR