BEGIN:VCALENDAR
VERSION:2.0
PRODID:-//National Lighthouse Museum - ECPv6.15.20//NONSGML v1.0//EN
CALSCALE:GREGORIAN
METHOD:PUBLISH
X-WR-CALNAME:National Lighthouse Museum
X-ORIGINAL-URL:https://lighthousemuseum.org
X-WR-CALDESC:Events for National Lighthouse Museum
REFRESH-INTERVAL;VALUE=DURATION:PT1H
X-Robots-Tag:noindex
X-PUBLISHED-TTL:PT1H
BEGIN:VTIMEZONE
TZID:America/New_York
BEGIN:DAYLIGHT
TZOFFSETFROM:-0500
TZOFFSETTO:-0400
TZNAME:EDT
DTSTART:20210314T070000
END:DAYLIGHT
BEGIN:STANDARD
TZOFFSETFROM:-0400
TZOFFSETTO:-0500
TZNAME:EST
DTSTART:20211107T060000
END:STANDARD
BEGIN:DAYLIGHT
TZOFFSETFROM:-0500
TZOFFSETTO:-0400
TZNAME:EDT
DTSTART:20220313T070000
END:DAYLIGHT
BEGIN:STANDARD
TZOFFSETFROM:-0400
TZOFFSETTO:-0500
TZNAME:EST
DTSTART:20221106T060000
END:STANDARD
BEGIN:DAYLIGHT
TZOFFSETFROM:-0500
TZOFFSETTO:-0400
TZNAME:EDT
DTSTART:20230312T070000
END:DAYLIGHT
BEGIN:STANDARD
TZOFFSETFROM:-0400
TZOFFSETTO:-0500
TZNAME:EST
DTSTART:20231105T060000
END:STANDARD
END:VTIMEZONE
BEGIN:VEVENT
DTSTART;TZID=America/New_York:20220724T140000
DTEND;TZID=America/New_York:20220724T140000
DTSTAMP:20260424T173315
CREATED:20220628T222901Z
LAST-MODIFIED:20220711T150646Z
UID:6589-1658671200-1658671200@lighthousemuseum.org
SUMMARY:The History of the Eddystone Lighthouse with Wayne Wheeler
DESCRIPTION:The History of the Eddystone Lighthouse with Wayne Wheeler\, accomplished lecturer on lighthouses\, lightships and aids to navigation.\nSunday\, July 24 • 2:00pm \nWayne will be talking about the history of the most iconic of England’s lighthouses. The Eddystone lighthouse\, first erected in the late 1600s\, was the first lighthouse in the world to be constructed on an ocean reef. \nIt was built before the time of mechanized vessels and power tools\, 26 miles south of Plymouth\, England. The first structure was replaced by a larger one after a year. That structure would be replaced three more times. \nWayne Wheeler is the founder and President emeritus of the U.S. Lighthouse Society and an expert on lighthouses\, lightships and aids to navigation. He served in aids to navigation areas of the Coast Guard as an officer and civilian for 23 years. \nPURCHASE TICKETS
URL:https://lighthousemuseum.org/event/lighthouses-of-antiquity-lecture-by-wayne-wheeler/
LOCATION:NY
ATTACH;FMTTYPE=image/jpeg:https://lighthousemuseum.org/wp-content/uploads/2022/06/WayneWheelerWeb.jpg
END:VEVENT
END:VCALENDAR