BEGIN:VCALENDAR
VERSION:2.0
PRODID:-//National Lighthouse Museum - ECPv6.15.20//NONSGML v1.0//EN
CALSCALE:GREGORIAN
METHOD:PUBLISH
X-WR-CALNAME:National Lighthouse Museum
X-ORIGINAL-URL:https://lighthousemuseum.org
X-WR-CALDESC:Events for National Lighthouse Museum
REFRESH-INTERVAL;VALUE=DURATION:PT1H
X-Robots-Tag:noindex
X-PUBLISHED-TTL:PT1H
BEGIN:VTIMEZONE
TZID:America/New_York
BEGIN:DAYLIGHT
TZOFFSETFROM:-0500
TZOFFSETTO:-0400
TZNAME:EDT
DTSTART:20210314T070000
END:DAYLIGHT
BEGIN:STANDARD
TZOFFSETFROM:-0400
TZOFFSETTO:-0500
TZNAME:EST
DTSTART:20211107T060000
END:STANDARD
BEGIN:DAYLIGHT
TZOFFSETFROM:-0500
TZOFFSETTO:-0400
TZNAME:EDT
DTSTART:20220313T070000
END:DAYLIGHT
BEGIN:STANDARD
TZOFFSETFROM:-0400
TZOFFSETTO:-0500
TZNAME:EST
DTSTART:20221106T060000
END:STANDARD
BEGIN:DAYLIGHT
TZOFFSETFROM:-0500
TZOFFSETTO:-0400
TZNAME:EDT
DTSTART:20230312T070000
END:DAYLIGHT
BEGIN:STANDARD
TZOFFSETFROM:-0400
TZOFFSETTO:-0500
TZNAME:EST
DTSTART:20231105T060000
END:STANDARD
END:VTIMEZONE
BEGIN:VEVENT
DTSTART;TZID=America/New_York:20220626T110000
DTEND;TZID=America/New_York:20220626T150000
DTSTAMP:20260424T190432
CREATED:20220209T023416Z
LAST-MODIFIED:20220623T135917Z
UID:6317-1656241200-1656255600@lighthousemuseum.org
SUMMARY:East River Lighthouse Boat Tour
DESCRIPTION:June 26 @ 11:00 am – 3:00 pm\nEast River Lighthouse Boat Tour\nSunday\, June 26\, 2022\n11am-3pm \nEast River Lighthouse Tour – Pass through Hell Gate to Long Island Sound and Execution Rocks Lighthouse learning facts about lighthouses. \nTickets Purchased will include One Year FREE Membership* to the National Lighthouse Museum!\n*One FREE membership per family.PURCHASE TICKETS \n 
URL:https://lighthousemuseum.org/event/east-river-lighthouse-tour/
LOCATION:NY
CATEGORIES:Boat Tours
ATTACH;FMTTYPE=image/jpeg:https://lighthousemuseum.org/wp-content/uploads/2022/02/nlm_boattour2022_web_new.jpg
END:VEVENT
END:VCALENDAR