BEGIN:VCALENDAR
VERSION:2.0
PRODID:-//National Lighthouse Museum - ECPv6.15.20//NONSGML v1.0//EN
CALSCALE:GREGORIAN
METHOD:PUBLISH
X-ORIGINAL-URL:https://lighthousemuseum.org
X-WR-CALDESC:Events for National Lighthouse Museum
REFRESH-INTERVAL;VALUE=DURATION:PT1H
X-Robots-Tag:noindex
X-PUBLISHED-TTL:PT1H
BEGIN:VTIMEZONE
TZID:America/New_York
BEGIN:DAYLIGHT
TZOFFSETFROM:-0500
TZOFFSETTO:-0400
TZNAME:EDT
DTSTART:20210314T070000
END:DAYLIGHT
BEGIN:STANDARD
TZOFFSETFROM:-0400
TZOFFSETTO:-0500
TZNAME:EST
DTSTART:20211107T060000
END:STANDARD
BEGIN:DAYLIGHT
TZOFFSETFROM:-0500
TZOFFSETTO:-0400
TZNAME:EDT
DTSTART:20220313T070000
END:DAYLIGHT
BEGIN:STANDARD
TZOFFSETFROM:-0400
TZOFFSETTO:-0500
TZNAME:EST
DTSTART:20221106T060000
END:STANDARD
BEGIN:DAYLIGHT
TZOFFSETFROM:-0500
TZOFFSETTO:-0400
TZNAME:EDT
DTSTART:20230312T070000
END:DAYLIGHT
BEGIN:STANDARD
TZOFFSETFROM:-0400
TZOFFSETTO:-0500
TZNAME:EST
DTSTART:20231105T060000
END:STANDARD
END:VTIMEZONE
BEGIN:VEVENT
DTSTART;TZID=America/New_York:20220620T070000
DTEND;TZID=America/New_York:20220620T070000
DTSTAMP:20260424T190517
CREATED:20220204T034333Z
LAST-MODIFIED:20220408T035604Z
UID:6196-1655708400-1655708400@lighthousemuseum.org
SUMMARY:Annual Golf Outing - Jumping Brook Country Club
DESCRIPTION:National Lighthouse Museum\nGolf Outing June 2022 \nJumping Brook Country Club\n210 Jumping Brook Rd\, Neptune\, NJ 07753\nMonday\, June 20\, 2022 \nBreakfast 7:00am • 8:00am Shot Gun Start\nBBQ Lunch with Open Bar \nRates:\n$225.00 Per Golfer 18 Holes • $100 Non-Golfer\nPURCHASE TICKETS \nBreakfast 7:00am • 8:00am Shot Gun Start • BBQ Lunch with Open Bar \nRaffles\, Hole-In-One Contest\, 50/50 \nHonoring Bill Britton\nWilliam Timothy Britton is an American professional golfer who played on the PGA Tour for fifteen years during the 1980s and 1990s.During his 15 years on the Tour\, Britton won once and had 23 top-10 finishes. \nAfter his years as a touring pro were over\, Britton became a teaching pro and author in New Jersey. Britton was born and raised on Staten Island and graduate of Monsignor Farrell HS. Britton has been inducted into the Staten Island Sports Hall of Fame. He currently serves as the head men’s golf coach for Monmouth University. \nSPONSORSHIPS AVAILABLE!\nBECOME A SPONSOR \nEvent Sponsor – $5\,000\n-Company/Name prominently displayed throughout event\n-Company/Name featured on all promotional material\n-Includes one tee sign at first hole and two foursomes \nBar Sponsor – $2\,500\n-Company/Name prominently displayed at bar\n-Company/Name featured on all promotional material\n-Includes one tee sign and one foursome \nBBQ Sponsor – $1\,000\n-Company/Name prominently displayed at lunch \nBeverage Cart Sponsor – $1\,000\n-Company/Name prominently displayed on beverage cart \nGolf Cart Sponsor – $750\n-Company/Name prominently displayed on all golf carts \nBreakfast Sponsor – $500\n-Company/Name prominently displayed at breakfast \nTee-sign Sponsor – $150\n–Company/Name prominently displayed at one tee \nCall 718-390-0040 or email\ninfo@lighthousemuseum.org for more info!
URL:https://lighthousemuseum.org/event/annual-golf-outing-pebble-creek-golf-club/
LOCATION:NY
CATEGORIES:In Person Event
ATTACH;FMTTYPE=image/jpeg:https://lighthousemuseum.org/wp-content/uploads/2022/02/GolfOutingWeb.jpg
END:VEVENT
END:VCALENDAR