BEGIN:VCALENDAR
VERSION:2.0
PRODID:-//National Lighthouse Museum - ECPv6.15.20//NONSGML v1.0//EN
CALSCALE:GREGORIAN
METHOD:PUBLISH
X-WR-CALNAME:National Lighthouse Museum
X-ORIGINAL-URL:https://lighthousemuseum.org
X-WR-CALDESC:Events for National Lighthouse Museum
REFRESH-INTERVAL;VALUE=DURATION:PT1H
X-Robots-Tag:noindex
X-PUBLISHED-TTL:PT1H
BEGIN:VTIMEZONE
TZID:America/New_York
BEGIN:DAYLIGHT
TZOFFSETFROM:-0500
TZOFFSETTO:-0400
TZNAME:EDT
DTSTART:20210314T070000
END:DAYLIGHT
BEGIN:STANDARD
TZOFFSETFROM:-0400
TZOFFSETTO:-0500
TZNAME:EST
DTSTART:20211107T060000
END:STANDARD
BEGIN:DAYLIGHT
TZOFFSETFROM:-0500
TZOFFSETTO:-0400
TZNAME:EDT
DTSTART:20220313T070000
END:DAYLIGHT
BEGIN:STANDARD
TZOFFSETFROM:-0400
TZOFFSETTO:-0500
TZNAME:EST
DTSTART:20221106T060000
END:STANDARD
BEGIN:DAYLIGHT
TZOFFSETFROM:-0500
TZOFFSETTO:-0400
TZNAME:EDT
DTSTART:20230312T070000
END:DAYLIGHT
BEGIN:STANDARD
TZOFFSETFROM:-0400
TZOFFSETTO:-0500
TZNAME:EST
DTSTART:20231105T060000
END:STANDARD
END:VTIMEZONE
BEGIN:VEVENT
DTSTART;TZID=America/New_York:20220607T080000
DTEND;TZID=America/New_York:20220607T170000
DTSTAMP:20260424T173250
CREATED:20220607T175339Z
LAST-MODIFIED:20220607T175339Z
UID:6544-1654588800-1654621200@lighthousemuseum.org
SUMMARY:Seasick Submariner - The Lure of Ocean Adventure from Old Staten Island to the US Navy
DESCRIPTION:Friday\, June 24\, 2022  •  6pm\nSeasick Submariner – The Lure of Ocean Adventure from Old Staten Island to the US Navy\nWith Author Anthony J. Scalici\nLecture & Book Signing\nSeasick Submariner is a memoir of the humor and irony of growing up in an immigrant neighborhood in a less-developed\, more rural Staten Island than we know today\, of coming of age during the Vietnam draft era\, and of military service in the Navy despite debilitating motion sickness.\n$10 per Person •  $5 for Museum Members\nNational Lighthouse Museum\n200 The Promenade at Lighthouse Point\nStaten Island\, NY 10301Purchase Tickets
URL:https://lighthousemuseum.org/event/seasick-submariner-the-lure-of-ocean-adventure-from-old-staten-island-to-the-us-navy/
LOCATION:NY
CATEGORIES:In Person Event
ATTACH;FMTTYPE=image/jpeg:https://lighthousemuseum.org/wp-content/uploads/2022/06/SeasickSubmarinerFB.jpg
END:VEVENT
END:VCALENDAR