BEGIN:VCALENDAR
VERSION:2.0
PRODID:-//National Lighthouse Museum - ECPv6.15.20//NONSGML v1.0//EN
CALSCALE:GREGORIAN
METHOD:PUBLISH
X-WR-CALNAME:National Lighthouse Museum
X-ORIGINAL-URL:https://lighthousemuseum.org
X-WR-CALDESC:Events for National Lighthouse Museum
REFRESH-INTERVAL;VALUE=DURATION:PT1H
X-Robots-Tag:noindex
X-PUBLISHED-TTL:PT1H
BEGIN:VTIMEZONE
TZID:America/New_York
BEGIN:DAYLIGHT
TZOFFSETFROM:-0500
TZOFFSETTO:-0400
TZNAME:EDT
DTSTART:20210314T070000
END:DAYLIGHT
BEGIN:STANDARD
TZOFFSETFROM:-0400
TZOFFSETTO:-0500
TZNAME:EST
DTSTART:20211107T060000
END:STANDARD
BEGIN:DAYLIGHT
TZOFFSETFROM:-0500
TZOFFSETTO:-0400
TZNAME:EDT
DTSTART:20220313T070000
END:DAYLIGHT
BEGIN:STANDARD
TZOFFSETFROM:-0400
TZOFFSETTO:-0500
TZNAME:EST
DTSTART:20221106T060000
END:STANDARD
BEGIN:DAYLIGHT
TZOFFSETFROM:-0500
TZOFFSETTO:-0400
TZNAME:EDT
DTSTART:20230312T070000
END:DAYLIGHT
BEGIN:STANDARD
TZOFFSETFROM:-0400
TZOFFSETTO:-0500
TZNAME:EST
DTSTART:20231105T060000
END:STANDARD
END:VTIMEZONE
BEGIN:VEVENT
DTSTART;TZID=America/New_York:20220519T180000
DTEND;TZID=America/New_York:20220519T180000
DTSTAMP:20260424T204556
CREATED:20220204T034728Z
LAST-MODIFIED:20220428T023739Z
UID:6203-1652983200-1652983200@lighthousemuseum.org
SUMMARY:SCUBA Then and Now\, Here and There
DESCRIPTION:SCUBA Then and Now\, Here and There\nThursday May 19\, 2022 •  6pm\nImmerse yourself into Scuba Diving with Tony Rose.\n– Presentation and Show-And-Tell topics will include:\n– Introduction and overview of the sport\n– The history of diving\n– Development of equipment\n– Types of sport diving opportunities and employment\n– Local diving: NY harbor and Jersey shore\n– Diving in exotic locales\n– Spear fishing\, photography and artifact collection\n– Q and A\, hands-on opportunity\nTony Rose is a retired nurse who presented a program at the shore on the first Earth Day in 1970.  He continues to protect the environment and bring people to the sea. \nPurchase Tickets
URL:https://lighthousemuseum.org/event/kayaking-presentation/
LOCATION:NY
CATEGORIES:In Person Event
ATTACH;FMTTYPE=image/jpeg:https://lighthousemuseum.org/wp-content/uploads/2022/02/Scuba_Website.jpg
END:VEVENT
END:VCALENDAR