BEGIN:VCALENDAR
VERSION:2.0
PRODID:-//National Lighthouse Museum - ECPv6.15.20//NONSGML v1.0//EN
CALSCALE:GREGORIAN
METHOD:PUBLISH
X-WR-CALNAME:National Lighthouse Museum
X-ORIGINAL-URL:https://lighthousemuseum.org
X-WR-CALDESC:Events for National Lighthouse Museum
REFRESH-INTERVAL;VALUE=DURATION:PT1H
X-Robots-Tag:noindex
X-PUBLISHED-TTL:PT1H
BEGIN:VTIMEZONE
TZID:UTC
BEGIN:STANDARD
TZOFFSETFROM:+0000
TZOFFSETTO:+0000
TZNAME:UTC
DTSTART:20210101T000000
END:STANDARD
END:VTIMEZONE
BEGIN:VEVENT
DTSTART;TZID=UTC:20220329T080000
DTEND;TZID=UTC:20220329T180000
DTSTAMP:20260424T222414
CREATED:20220323T145255Z
LAST-MODIFIED:20220323T180525Z
UID:6435-1648540800-1648576800@lighthousemuseum.org
SUMMARY:37th CMA Shipping Annual Expo & Conference
DESCRIPTION:March 29-31\, 2022 \n37th CMA Shipping Annual Expo & Conference \nRegistration opening / closing times: \nTues\, March 29: 12pm – 6pm \nWeds\, March 30: 8am – 6pm \nThurs\, March 31 : 8am – 6pm \nVisit The National Lighthouse Museum at Booth #104! \n37th Annual Expo & Conference \nHilton Stamford | Connecticut\, USA \nConnecting the North American shipping community worldwide \n3 Day Conference / Commodore Gala Dinner / \nExceptional Networking / Free Expo with 80+ Booths \nAt the National Lighthouse Museum\, preserving and educating on the maritime heritage of over 15\,000 lighthouses worldwide\, we are proud to be partnering with CMA and the vast team of maritime-related colleagues working in our waterways! \nhttps://informaconnect.com/cma-shipping/ \nPurchase Tickets
URL:https://lighthousemuseum.org/event/37th-cma-shipping-annual-expo-conference/
LOCATION:NY
CATEGORIES:In Person Event
ATTACH;FMTTYPE=image/jpeg:https://lighthousemuseum.org/wp-content/uploads/2022/03/NLM-CMAExpo.jpg
END:VEVENT
END:VCALENDAR